BEGIN:VCALENDAR
VERSION:2.0
PRODID:-//Sacred Heart School - ECPv5.8.1//NONSGML v1.0//EN
CALSCALE:GREGORIAN
METHOD:PUBLISH
X-WR-CALNAME:Sacred Heart School
X-ORIGINAL-URL:https://www.gogremlins.com
X-WR-CALDESC:Events for Sacred Heart School
BEGIN:VTIMEZONE
TZID:America/Chicago
BEGIN:DAYLIGHT
TZOFFSETFROM:-0600
TZOFFSETTO:-0500
TZNAME:CDT
DTSTART:20260308T080000
END:DAYLIGHT
BEGIN:STANDARD
TZOFFSETFROM:-0500
TZOFFSETTO:-0600
TZNAME:CST
DTSTART:20261101T070000
END:STANDARD
END:VTIMEZONE
BEGIN:VEVENT
DTSTART;VALUE=DATE:20260910
DTEND;VALUE=DATE:20260913
DTSTAMP:20260422T090551
CREATED:20251218T181024Z
LAST-MODIFIED:20260421T222416Z
UID:112998-1788998400-1789257599@www.gogremlins.com
SUMMARY:JH Soccer - LaMonte JH Shootout
DESCRIPTION:
URL:https://www.gogremlins.com/event/jh-soccer-lamonte-jh-shootout/
CATEGORIES:JH Soccer
END:VEVENT
BEGIN:VEVENT
DTSTART;VALUE=DATE:20260910
DTEND;VALUE=DATE:20260911
DTSTAMP:20260422T090551
CREATED:20251218T202715Z
LAST-MODIFIED:20260421T223930Z
UID:113087-1788998400-1789084799@www.gogremlins.com
SUMMARY:Varsity Girls Golf @ California w/ Boonville (TRI)
DESCRIPTION:
URL:https://www.gogremlins.com/event/varsity-girls-golf-california-w-boonville-tri/
CATEGORIES:HS Girls Golf
END:VEVENT
BEGIN:VEVENT
DTSTART;TZID=America/Chicago:20260910T170000
DTEND;TZID=America/Chicago:20260910T210000
DTSTAMP:20260422T090551
CREATED:20251218T175944Z
LAST-MODIFIED:20260421T153934Z
UID:112979-1789059600-1789074000@www.gogremlins.com
SUMMARY:JH Volleyball Game vs Tipton
DESCRIPTION:
URL:https://www.gogremlins.com/event/jh-volleyball-game-vs-tipton/
LOCATION:Sacred Heart Elementary & High School\, 416 W 3rd St\, Sedalia\, MO\, United States
CATEGORIES:JH Volleyball
GEO:38.708828;-93.231506
X-APPLE-STRUCTURED-LOCATION;VALUE=URI;X-ADDRESS=Sacred Heart Elementary & High School 416 W 3rd St Sedalia MO United States;X-APPLE-RADIUS=500;X-TITLE=416 W 3rd St:geo:-93.231506,38.708828
END:VEVENT
BEGIN:VEVENT
DTSTART;TZID=America/Chicago:20260910T170000
DTEND;TZID=America/Chicago:20260910T183000
DTSTAMP:20260422T090551
CREATED:20251218T185521Z
LAST-MODIFIED:20260421T225457Z
UID:113029-1789059600-1789065000@www.gogremlins.com
SUMMARY:Varsity Soccer Game vs Christian Fellowship
DESCRIPTION:
URL:https://www.gogremlins.com/event/varsity-soccer-game-vs-christian-fellowship/
LOCATION:Clover Dell Park\, 5301 W 32nd St\, Sedalia\, MO\, United States
CATEGORIES:HS Soccer
GEO:38.685723;-93.292416
X-APPLE-STRUCTURED-LOCATION;VALUE=URI;X-ADDRESS=Clover Dell Park 5301 W 32nd St Sedalia MO United States;X-APPLE-RADIUS=500;X-TITLE=5301 W 32nd St:geo:-93.292416,38.685723
END:VEVENT
BEGIN:VEVENT
DTSTART;TZID=America/Chicago:20260910T170000
DTEND;TZID=America/Chicago:20260910T210000
DTSTAMP:20260422T090551
CREATED:20251218T201022Z
LAST-MODIFIED:20260421T150915Z
UID:113063-1789059600-1789074000@www.gogremlins.com
SUMMARY:Varsity/JV Volleyball Game vs Tipton
DESCRIPTION:
URL:https://www.gogremlins.com/event/varsity-jv-volleyball-game-vs-tipton/
LOCATION:Sacred Heart Elementary & High School\, 416 W 3rd St\, Sedalia\, MO\, United States
CATEGORIES:HS Volleyball
GEO:38.708828;-93.231506
X-APPLE-STRUCTURED-LOCATION;VALUE=URI;X-ADDRESS=Sacred Heart Elementary & High School 416 W 3rd St Sedalia MO United States;X-APPLE-RADIUS=500;X-TITLE=416 W 3rd St:geo:-93.231506,38.708828
END:VEVENT
END:VCALENDAR