BEGIN:VCALENDAR
VERSION:2.0
PRODID:-//Sacred Heart School - ECPv5.8.1//NONSGML v1.0//EN
CALSCALE:GREGORIAN
METHOD:PUBLISH
X-WR-CALNAME:Sacred Heart School
X-ORIGINAL-URL:https://www.gogremlins.com
X-WR-CALDESC:Events for Sacred Heart School
BEGIN:VTIMEZONE
TZID:America/Chicago
BEGIN:DAYLIGHT
TZOFFSETFROM:-0600
TZOFFSETTO:-0500
TZNAME:CDT
DTSTART:20260308T080000
END:DAYLIGHT
BEGIN:STANDARD
TZOFFSETFROM:-0500
TZOFFSETTO:-0600
TZNAME:CST
DTSTART:20261101T070000
END:STANDARD
END:VTIMEZONE
BEGIN:VEVENT
DTSTART;VALUE=DATE:20260901
DTEND;VALUE=DATE:20260906
DTSTAMP:20260422T073639
CREATED:20251218T185521Z
LAST-MODIFIED:20260421T225456Z
UID:113027-1788220800-1788652799@www.gogremlins.com
SUMMARY:Varsity Soccer - Barstow Tournament
DESCRIPTION:
URL:https://www.gogremlins.com/event/varsity-soccer-barstow-tournament-11/
CATEGORIES:HS Soccer
END:VEVENT
BEGIN:VEVENT
DTSTART;VALUE=DATE:20260902
DTEND;VALUE=DATE:20260903
DTSTAMP:20260422T073639
CREATED:20251218T202714Z
LAST-MODIFIED:20260421T223928Z
UID:113084-1788307200-1788393599@www.gogremlins.com
SUMMARY:Varsity Girls Golf @ Eugene (QUAD)
DESCRIPTION:
URL:https://www.gogremlins.com/event/varsity-girls-golf-eugene-quad/
CATEGORIES:HS Girls Golf
END:VEVENT
BEGIN:VEVENT
DTSTART;TZID=America/Chicago:20260902T173000
DTEND;TZID=America/Chicago:20260902T193000
DTSTAMP:20260422T073639
CREATED:20251218T201021Z
LAST-MODIFIED:20260421T150913Z
UID:113058-1788370200-1788377400@www.gogremlins.com
SUMMARY:Varsity Volleyball @ Chilhowee
DESCRIPTION:
URL:https://www.gogremlins.com/event/varsity-volleyball-chilhowee/
LOCATION:Chilhowee Elementary School\, Chilhowee\, MO\, United States
CATEGORIES:HS Volleyball
GEO:38.606403;-93.850772
END:VEVENT
END:VCALENDAR