BEGIN:VCALENDAR
VERSION:2.0
PRODID:-//Sacred Heart School - ECPv5.8.1//NONSGML v1.0//EN
CALSCALE:GREGORIAN
METHOD:PUBLISH
X-WR-CALNAME:Sacred Heart School
X-ORIGINAL-URL:https://www.gogremlins.com
X-WR-CALDESC:Events for Sacred Heart School
BEGIN:VTIMEZONE
TZID:America/Chicago
BEGIN:DAYLIGHT
TZOFFSETFROM:-0600
TZOFFSETTO:-0500
TZNAME:CDT
DTSTART:20260308T080000
END:DAYLIGHT
BEGIN:STANDARD
TZOFFSETFROM:-0500
TZOFFSETTO:-0600
TZNAME:CST
DTSTART:20261101T070000
END:STANDARD
END:VTIMEZONE
BEGIN:VEVENT
DTSTART;TZID=America/Chicago:20260514T170000
DTEND;TZID=America/Chicago:20260514T190000
DTSTAMP:20260422T030648
CREATED:20260112T235420Z
LAST-MODIFIED:20260421T225451Z
UID:114051-1778778000-1778785200@www.gogremlins.com
SUMMARY:V Girls Soccer @ Home vs Ewing Marion Kauffman w/ University Academy
DESCRIPTION:
URL:https://www.gogremlins.com/event/v-girls-soccer-home-vs-ewing-marion-kauffman-w-university-academy/
CATEGORIES:HS Soccer
END:VEVENT
END:VCALENDAR