BEGIN:VCALENDAR
VERSION:2.0
PRODID:-//Sacred Heart School - ECPv5.8.1//NONSGML v1.0//EN
CALSCALE:GREGORIAN
METHOD:PUBLISH
X-WR-CALNAME:Sacred Heart School
X-ORIGINAL-URL:https://www.gogremlins.com
X-WR-CALDESC:Events for Sacred Heart School
BEGIN:VTIMEZONE
TZID:America/Chicago
BEGIN:DAYLIGHT
TZOFFSETFROM:-0600
TZOFFSETTO:-0500
TZNAME:CDT
DTSTART:20260308T080000
END:DAYLIGHT
BEGIN:STANDARD
TZOFFSETFROM:-0500
TZOFFSETTO:-0600
TZNAME:CST
DTSTART:20261101T070000
END:STANDARD
END:VTIMEZONE
BEGIN:VEVENT
DTSTART;TZID=America/Chicago:20260327T160000
DTEND;TZID=America/Chicago:20260327T200000
DTSTAMP:20260422T042054
CREATED:20260112T203907Z
LAST-MODIFIED:20260327T173910Z
UID:113976-1774627200-1774641600@www.gogremlins.com
SUMMARY:Boys Golf @ Tipton
DESCRIPTION:
URL:https://www.gogremlins.com/event/boys-golf-tipton-5/
CATEGORIES:HS Boys Golf
END:VEVENT
BEGIN:VEVENT
DTSTART;TZID=America/Chicago:20260327T170000
DTEND;TZID=America/Chicago:20260327T210000
DTSTAMP:20260422T042054
CREATED:20260112T230917Z
LAST-MODIFIED:20260327T163921Z
UID:114007-1774630800-1774645200@www.gogremlins.com
SUMMARY:JV/V Baseball @ Home vs New Franklin
DESCRIPTION:
URL:https://www.gogremlins.com/event/jv-v-baseball-home-vs-new-franklin/
CATEGORIES:HS Baseball
END:VEVENT
BEGIN:VEVENT
DTSTART;TZID=America/Chicago:20260327T170000
DTEND;TZID=America/Chicago:20260327T190000
DTSTAMP:20260422T042054
CREATED:20260112T235418Z
LAST-MODIFIED:20260327T132412Z
UID:114035-1774630800-1774638000@www.gogremlins.com
SUMMARY:V Girls Soccer @ Chillicothe
DESCRIPTION:
URL:https://www.gogremlins.com/event/v-girls-soccer-chillicothe/
CATEGORIES:HS Soccer
END:VEVENT
END:VCALENDAR