BEGIN:VCALENDAR
VERSION:2.0
PRODID:-//Sacred Heart School - ECPv5.8.1//NONSGML v1.0//EN
CALSCALE:GREGORIAN
METHOD:PUBLISH
X-WR-CALNAME:Sacred Heart School
X-ORIGINAL-URL:https://www.gogremlins.com
X-WR-CALDESC:Events for Sacred Heart School
BEGIN:VTIMEZONE
TZID:America/Chicago
BEGIN:DAYLIGHT
TZOFFSETFROM:-0600
TZOFFSETTO:-0500
TZNAME:CDT
DTSTART:20260308T080000
END:DAYLIGHT
BEGIN:STANDARD
TZOFFSETFROM:-0500
TZOFFSETTO:-0600
TZNAME:CST
DTSTART:20261101T070000
END:STANDARD
END:VTIMEZONE
BEGIN:VEVENT
DTSTART;TZID=America/Chicago:20260321T070000
DTEND;TZID=America/Chicago:20260321T160000
DTSTAMP:20260425T143701
CREATED:20260113T212517Z
LAST-MODIFIED:20260321T153923Z
UID:114070-1774076400-1774108800@www.gogremlins.com
SUMMARY:HS Speech Districts @ Warrensburg
DESCRIPTION:
URL:https://www.gogremlins.com/event/hs-speech-districts-warrensburg/
CATEGORIES:Main
END:VEVENT
BEGIN:VEVENT
DTSTART;TZID=America/Chicago:20260321T164500
DTEND;TZID=America/Chicago:20260321T180000
DTSTAMP:20260425T143701
CREATED:20260318T135424Z
LAST-MODIFIED:20260318T142322Z
UID:115974-1774111500-1774116000@www.gogremlins.com
SUMMARY:Catholic and Faith-Based Book Fair - Ignatius Press
DESCRIPTION:Stop by the Sacred Heart Commons to find faith-filled stories and books for the whole family.
URL:https://www.gogremlins.com/event/catholic-and-faith-based-book-fair-ignatius-press-10/
CATEGORIES:Main
END:VEVENT
BEGIN:VEVENT
DTSTART;TZID=America/Chicago:20260321T164500
DTEND;TZID=America/Chicago:20260321T180000
DTSTAMP:20260425T143701
CREATED:20260318T142322Z
LAST-MODIFIED:20260318T142322Z
UID:116043-1774111500-1774116000@www.gogremlins.com
SUMMARY:Catholic and Faith-Based Book Fair - Ignatius Press
DESCRIPTION:Stop by the Sacred Heart Commons to find faith-filled stories and books for the whole family.
URL:https://www.gogremlins.com/event/catholic-and-faith-based-book-fair-ignatius-press-17/
CATEGORIES:Main
END:VEVENT
BEGIN:VEVENT
DTSTART;TZID=America/Chicago:20260321T164500
DTEND;TZID=America/Chicago:20260321T180000
DTSTAMP:20260425T143701
CREATED:20260318T142504Z
LAST-MODIFIED:20260321T153924Z
UID:116044-1774111500-1774116000@www.gogremlins.com
SUMMARY:Catholic and Faith-Based Book Fair - Ignatius Press
DESCRIPTION:Stop by the Sacred Heart Commons to find faith-filled stories and books for the whole family.
URL:https://www.gogremlins.com/event/catholic-and-faith-based-book-fair-ignatius-press-18/
CATEGORIES:Main
END:VEVENT
END:VCALENDAR