BEGIN:VCALENDAR
VERSION:2.0
PRODID:-//Sacred Heart School - ECPv5.8.1//NONSGML v1.0//EN
CALSCALE:GREGORIAN
METHOD:PUBLISH
X-WR-CALNAME:Sacred Heart School
X-ORIGINAL-URL:https://www.gogremlins.com
X-WR-CALDESC:Events for Sacred Heart School
BEGIN:VTIMEZONE
TZID:America/Chicago
BEGIN:DAYLIGHT
TZOFFSETFROM:-0600
TZOFFSETTO:-0500
TZNAME:CDT
DTSTART:20260308T080000
END:DAYLIGHT
BEGIN:STANDARD
TZOFFSETFROM:-0500
TZOFFSETTO:-0600
TZNAME:CST
DTSTART:20261101T070000
END:STANDARD
END:VTIMEZONE
BEGIN:VEVENT
DTSTART;TZID=America/Chicago:20260108T083000
DTEND;TZID=America/Chicago:20260108T093000
DTSTAMP:20260421T031508
CREATED:20250731T144313Z
LAST-MODIFIED:20260108T113924Z
UID:108456-1767861000-1767864600@www.gogremlins.com
SUMMARY:Mass (Grades 6-12) Palacios
DESCRIPTION:Thursday\, January 8\, 6-12 Mass; Christmas Weekday; Readings: 1 John 4: 11-18; Mark 6: 45-52.  \n7th (Palacios)
URL:https://www.gogremlins.com/event/mass-grades-6-12-palacios-7/
CATEGORIES:Faith Life
END:VEVENT
BEGIN:VEVENT
DTSTART;TZID=America/Chicago:20260108T092000
DTEND;TZID=America/Chicago:20260108T093000
DTSTAMP:20260421T031508
CREATED:20260105T222433Z
LAST-MODIFIED:20260107T210024Z
UID:113694-1767864000-1767864600@www.gogremlins.com
SUMMARY:Blessing of the Doors (Grades 6-12)
DESCRIPTION:
URL:https://www.gogremlins.com/event/blessing-of-the-doors/
CATEGORIES:Main
END:VEVENT
BEGIN:VEVENT
DTSTART;TZID=America/Chicago:20260108T170000
DTEND;TZID=America/Chicago:20260108T210000
DTSTAMP:20260421T031508
CREATED:20250610T092432Z
LAST-MODIFIED:20260108T043922Z
UID:106040-1767891600-1767906000@www.gogremlins.com
SUMMARY:JH Boys and Girls Basketball @ home vs Tipton
DESCRIPTION:
URL:https://www.gogremlins.com/event/jh-boys-and-girls-basketball-home-vs-tipton/
CATEGORIES:JH Basketball
END:VEVENT
END:VCALENDAR