BEGIN:VCALENDAR
VERSION:2.0
PRODID:-//Sacred Heart School - ECPv5.8.1//NONSGML v1.0//EN
CALSCALE:GREGORIAN
METHOD:PUBLISH
X-WR-CALNAME:Sacred Heart School
X-ORIGINAL-URL:https://www.gogremlins.com
X-WR-CALDESC:Events for Sacred Heart School
BEGIN:VTIMEZONE
TZID:America/Chicago
BEGIN:DAYLIGHT
TZOFFSETFROM:-0600
TZOFFSETTO:-0500
TZNAME:CDT
DTSTART:20250309T080000
END:DAYLIGHT
BEGIN:STANDARD
TZOFFSETFROM:-0500
TZOFFSETTO:-0600
TZNAME:CST
DTSTART:20251102T070000
END:STANDARD
END:VTIMEZONE
BEGIN:VEVENT
DTSTART;VALUE=DATE:20251130
DTEND;VALUE=DATE:20251225
DTSTAMP:20260421T052257
CREATED:20250430T211224Z
LAST-MODIFIED:20251224T210959Z
UID:104659-1764460800-1766620799@www.gogremlins.com
SUMMARY:Advent
DESCRIPTION:
URL:https://www.gogremlins.com/event/advent-2/
CATEGORIES:Main
END:VEVENT
BEGIN:VEVENT
DTSTART;VALUE=DATE:20251215
DTEND;VALUE=DATE:20251224
DTSTAMP:20260421T052257
CREATED:20250508T181618Z
LAST-MODIFIED:20251223T232441Z
UID:104968-1765756800-1766534399@www.gogremlins.com
SUMMARY:Las Posadas
DESCRIPTION:
URL:https://www.gogremlins.com/event/las-posadas-4/
CATEGORIES:Faith Life
END:VEVENT
BEGIN:VEVENT
DTSTART;VALUE=DATE:20251216
DTEND;VALUE=DATE:20251217
DTSTAMP:20260421T052257
CREATED:20250610T092432Z
LAST-MODIFIED:20251216T074403Z
UID:106038-1765843200-1765929599@www.gogremlins.com
SUMMARY:JH Boys and Girls Basketball @ California Invitational
DESCRIPTION:
URL:https://www.gogremlins.com/event/jh-boys-and-girls-basketball-california-invitational-2/
CATEGORIES:JH Basketball
END:VEVENT
BEGIN:VEVENT
DTSTART;TZID=America/Chicago:20251216T073000
DTEND;TZID=America/Chicago:20251216T075000
DTSTAMP:20260421T052257
CREATED:20250731T121031Z
LAST-MODIFIED:20251215T204404Z
UID:108448-1765870200-1765871400@www.gogremlins.com
SUMMARY:Ring Delivery Day (Jrs & Srs)
DESCRIPTION:
URL:https://www.gogremlins.com/event/ring-delivery-day-jrs-srs-2/
CATEGORIES:Main
END:VEVENT
BEGIN:VEVENT
DTSTART;TZID=America/Chicago:20251216T080000
DTEND;TZID=America/Chicago:20251216T081500
DTSTAMP:20260421T052257
CREATED:20251119T172817Z
LAST-MODIFIED:20251215T204405Z
UID:112075-1765872000-1765872900@www.gogremlins.com
SUMMARY:Advent Prayer Service (Grades PK-12)
DESCRIPTION:
URL:https://www.gogremlins.com/event/advent-prayer-service-grades-pk-12-3/
LOCATION:McGremlin Gym
CATEGORIES:Main
END:VEVENT
BEGIN:VEVENT
DTSTART;TZID=America/Chicago:20251216T083000
DTEND;TZID=America/Chicago:20251216T093000
DTSTAMP:20260421T052257
CREATED:20250731T144259Z
LAST-MODIFIED:20251216T153203Z
UID:108454-1765873800-1765877400@www.gogremlins.com
SUMMARY:All School Mass (Grades K-12) Manning
DESCRIPTION:Tuesday\, December 16 ASM. Advent Weekday; Readings: Zephaniah 3: 1-2\, 9-13; Matthew 21: 28-32.  \n6th (Manning)
URL:https://www.gogremlins.com/event/all-school-mass-grades-k-12-manning/
CATEGORIES:Faith Life
END:VEVENT
BEGIN:VEVENT
DTSTART;TZID=America/Chicago:20251216T091500
DTEND;TZID=America/Chicago:20251216T092500
DTSTAMP:20260421T052257
CREATED:20250814T134031Z
LAST-MODIFIED:20251215T204405Z
UID:108987-1765876500-1765877100@www.gogremlins.com
SUMMARY:ABC Awards (Grades K-5)
DESCRIPTION:
URL:https://www.gogremlins.com/event/abc-awards-grades-k-5-34/
CATEGORIES:Main
END:VEVENT
BEGIN:VEVENT
DTSTART;TZID=America/Chicago:20251216T093000
DTEND;TZID=America/Chicago:20251216T094500
DTSTAMP:20260421T052257
CREATED:20250430T211224Z
LAST-MODIFIED:20251215T204406Z
UID:104658-1765877400-1765878300@www.gogremlins.com
SUMMARY:Finals Goodie Bags (Grades 9-12)
DESCRIPTION:
URL:https://www.gogremlins.com/event/finals-goodie-bags-grades-9-12-2/
CATEGORIES:Main
END:VEVENT
BEGIN:VEVENT
DTSTART;TZID=America/Chicago:20251216T170000
DTEND;TZID=America/Chicago:20251216T210000
DTSTAMP:20260421T052257
CREATED:20250610T092434Z
LAST-MODIFIED:20251216T052803Z
UID:106065-1765904400-1765918800@www.gogremlins.com
SUMMARY:V/JV Boys Basketball @ Santa Fe
DESCRIPTION:
URL:https://www.gogremlins.com/event/v-jv-boys-basketball-santa-fe/
CATEGORIES:HS Boys Basketball
END:VEVENT
BEGIN:VEVENT
DTSTART;TZID=America/Chicago:20251216T170000
DTEND;TZID=America/Chicago:20251216T210000
DTSTAMP:20260421T052257
CREATED:20250913T122410Z
LAST-MODIFIED:20251216T121403Z
UID:109994-1765904400-1765918800@www.gogremlins.com
SUMMARY:V Girls Basketball @ Santa Fe
DESCRIPTION:
URL:https://www.gogremlins.com/event/v-jv-girls-basketball-santa-fe/
CATEGORIES:HS Girls Basketball
END:VEVENT
END:VCALENDAR