BEGIN:VCALENDAR
VERSION:2.0
PRODID:-//Sacred Heart School - ECPv5.8.1//NONSGML v1.0//EN
CALSCALE:GREGORIAN
METHOD:PUBLISH
X-WR-CALNAME:Sacred Heart School
X-ORIGINAL-URL:https://www.gogremlins.com
X-WR-CALDESC:Events for Sacred Heart School
BEGIN:VTIMEZONE
TZID:America/Chicago
BEGIN:DAYLIGHT
TZOFFSETFROM:-0600
TZOFFSETTO:-0500
TZNAME:CDT
DTSTART:20250309T080000
END:DAYLIGHT
BEGIN:STANDARD
TZOFFSETFROM:-0500
TZOFFSETTO:-0600
TZNAME:CST
DTSTART:20251102T070000
END:STANDARD
END:VTIMEZONE
BEGIN:VEVENT
DTSTART;VALUE=DATE:20251130
DTEND;VALUE=DATE:20251225
DTSTAMP:20260421T052630
CREATED:20250430T211224Z
LAST-MODIFIED:20251224T210959Z
UID:104659-1764460800-1766620799@www.gogremlins.com
SUMMARY:Advent
DESCRIPTION:
URL:https://www.gogremlins.com/event/advent-2/
CATEGORIES:Main
END:VEVENT
BEGIN:VEVENT
DTSTART;TZID=America/Chicago:20251208T104500
DTEND;TZID=America/Chicago:20251212T000000
DTSTAMP:20260421T052630
CREATED:20250923T162552Z
LAST-MODIFIED:20251208T185803Z
UID:110360-1765190700-1765497600@www.gogremlins.com
SUMMARY:Scholastic Book Fair - 10:45am-12:25pm\, 2:20-3:30pm
DESCRIPTION:
URL:https://www.gogremlins.com/event/scholastic-book-fair-6/
LOCATION:Sacred Heart Elementary & High School\, 416 W 3rd St\, Sedalia\, MO 65301\, USA\, Commons-1-Commons (500)
CATEGORIES:Main
END:VEVENT
BEGIN:VEVENT
DTSTART;VALUE=DATE:20251212
DTEND;VALUE=DATE:20251213
DTSTAMP:20260421T052630
CREATED:20250501T095825Z
LAST-MODIFIED:20251212T200414Z
UID:104695-1765497600-1765583999@www.gogremlins.com
SUMMARY:Feast of Our Lady of Guadalupe
DESCRIPTION:
URL:https://www.gogremlins.com/event/feast-of-our-lady-of-guadalupe/
CATEGORIES:Faith Life
END:VEVENT
BEGIN:VEVENT
DTSTART;VALUE=DATE:20251212
DTEND;VALUE=DATE:20251213
DTSTAMP:20260421T052630
CREATED:20250913T122410Z
LAST-MODIFIED:20251212T111403Z
UID:109993-1765497600-1765583999@www.gogremlins.com
SUMMARY:Varsity Girls Basketball @ Pilot Grove Tiger Classic
DESCRIPTION:
URL:https://www.gogremlins.com/event/varsity-girls-basketball-pilot-grove-tiger-classic-11/
CATEGORIES:HS Girls Basketball
END:VEVENT
BEGIN:VEVENT
DTSTART;TZID=America/Chicago:20251212T070000
DTEND;TZID=America/Chicago:20251212T153000
DTSTAMP:20260421T052630
CREATED:20251121T135815Z
LAST-MODIFIED:20251212T195805Z
UID:112159-1765522800-1765553400@www.gogremlins.com
SUMMARY:Scholastic Book Fair - 7am-12:25pm\, 2:20-3pm
DESCRIPTION:
URL:https://www.gogremlins.com/event/scholastic-book-fair-7am-1225pm-220-3pm/
LOCATION:Sacred Heart Elementary & High School\, 416 W 3rd St\, Sedalia\, MO 65301\, USA\, Commons-1-Commons (500)
CATEGORIES:Main
END:VEVENT
END:VCALENDAR