BEGIN:VCALENDAR
VERSION:2.0
PRODID:-//Sacred Heart School - ECPv5.8.1//NONSGML v1.0//EN
CALSCALE:GREGORIAN
METHOD:PUBLISH
X-WR-CALNAME:Sacred Heart School
X-ORIGINAL-URL:https://www.gogremlins.com
X-WR-CALDESC:Events for Sacred Heart School
BEGIN:VTIMEZONE
TZID:America/Chicago
BEGIN:DAYLIGHT
TZOFFSETFROM:-0600
TZOFFSETTO:-0500
TZNAME:CDT
DTSTART:20250309T080000
END:DAYLIGHT
BEGIN:STANDARD
TZOFFSETFROM:-0500
TZOFFSETTO:-0600
TZNAME:CST
DTSTART:20251102T070000
END:STANDARD
END:VTIMEZONE
BEGIN:VEVENT
DTSTART;VALUE=DATE:20251130
DTEND;VALUE=DATE:20251225
DTSTAMP:20260423T044414
CREATED:20250430T211224Z
LAST-MODIFIED:20251224T210959Z
UID:104659-1764460800-1766620799@www.gogremlins.com
SUMMARY:Advent
DESCRIPTION:
URL:https://www.gogremlins.com/event/advent-2/
CATEGORIES:Main
END:VEVENT
BEGIN:VEVENT
DTSTART;VALUE=DATE:20251205
DTEND;VALUE=DATE:20251206
DTSTAMP:20260423T044414
CREATED:20250501T095816Z
LAST-MODIFIED:20251205T132804Z
UID:104687-1764892800-1764979199@www.gogremlins.com
SUMMARY:School Reconciliation (3rd - 12th Grade)
DESCRIPTION:
URL:https://www.gogremlins.com/event/school-reconciliation-3rd-12th-grade-2/
CATEGORIES:Faith Life
END:VEVENT
BEGIN:VEVENT
DTSTART;TZID=America/Chicago:20251205T151500
DTEND;TZID=America/Chicago:20251205T173000
DTSTAMP:20260423T044414
CREATED:20250305T192647Z
LAST-MODIFIED:20251205T181403Z
UID:103184-1764947700-1764955800@www.gogremlins.com
SUMMARY:Winter Sports Photos
DESCRIPTION:
URL:https://www.gogremlins.com/event/winter-sports-photos-2/
CATEGORIES:Main
END:VEVENT
BEGIN:VEVENT
DTSTART;TZID=America/Chicago:20251205T183000
DTEND;TZID=America/Chicago:20251205T193000
DTSTAMP:20260423T044414
CREATED:20250501T095816Z
LAST-MODIFIED:20251205T132805Z
UID:104688-1764959400-1764963000@www.gogremlins.com
SUMMARY:Our Lady Guadalupe Novena
DESCRIPTION:
URL:https://www.gogremlins.com/event/our-lady-guadalupe-novena-4/
LOCATION:Saint Patrick Church
CATEGORIES:Faith Life
END:VEVENT
END:VCALENDAR