BEGIN:VCALENDAR
VERSION:2.0
PRODID:-//Sacred Heart School - ECPv5.8.1//NONSGML v1.0//EN
CALSCALE:GREGORIAN
METHOD:PUBLISH
X-WR-CALNAME:Sacred Heart School
X-ORIGINAL-URL:https://www.gogremlins.com
X-WR-CALDESC:Events for Sacred Heart School
BEGIN:VTIMEZONE
TZID:America/Chicago
BEGIN:DAYLIGHT
TZOFFSETFROM:-0600
TZOFFSETTO:-0500
TZNAME:CDT
DTSTART:20250309T080000
END:DAYLIGHT
BEGIN:STANDARD
TZOFFSETFROM:-0500
TZOFFSETTO:-0600
TZNAME:CST
DTSTART:20251102T070000
END:STANDARD
END:VTIMEZONE
BEGIN:VEVENT
DTSTART;VALUE=DATE:20251120
DTEND;VALUE=DATE:20251124
DTSTAMP:20260423T163847
CREATED:20250430T090022Z
LAST-MODIFIED:20251123T172805Z
UID:104637-1763596800-1763942399@www.gogremlins.com
SUMMARY:NCYC Trip
DESCRIPTION:
URL:https://www.gogremlins.com/event/ncyc-trip/
CATEGORIES:Faith Life
END:VEVENT
BEGIN:VEVENT
DTSTART;TZID=America/Chicago:20251121T170000
DTEND;TZID=America/Chicago:20251121T210000
DTSTAMP:20260423T163847
CREATED:20250610T092434Z
LAST-MODIFIED:20251121T205804Z
UID:106056-1763744400-1763758800@www.gogremlins.com
SUMMARY:V/JV Boys Basketball @ home vs Leeton 5:00pm-9:00pm -- Theme Night "Red Out"
DESCRIPTION:
URL:https://www.gogremlins.com/event/v-jv-boys-basketball-home-vs-leeton-500pm-900pm/
CATEGORIES:HS Boys Basketball
END:VEVENT
BEGIN:VEVENT
DTSTART;TZID=America/Chicago:20251121T170000
DTEND;TZID=America/Chicago:20251121T210000
DTSTAMP:20260423T163847
CREATED:20250913T122409Z
LAST-MODIFIED:20251121T234405Z
UID:109986-1763744400-1763758800@www.gogremlins.com
SUMMARY:V/JV Girls Basketball - Theme Night "Red Out"
DESCRIPTION:
URL:https://www.gogremlins.com/event/v-jv-girls-basketball-theme-night-red-out/
CATEGORIES:HS Girls Basketball
END:VEVENT
END:VCALENDAR