BEGIN:VCALENDAR
VERSION:2.0
PRODID:-//Sacred Heart School - ECPv5.8.1//NONSGML v1.0//EN
CALSCALE:GREGORIAN
METHOD:PUBLISH
X-WR-CALNAME:Sacred Heart School
X-ORIGINAL-URL:https://www.gogremlins.com
X-WR-CALDESC:Events for Sacred Heart School
BEGIN:VTIMEZONE
TZID:America/Chicago
BEGIN:DAYLIGHT
TZOFFSETFROM:-0600
TZOFFSETTO:-0500
TZNAME:CDT
DTSTART:20250309T080000
END:DAYLIGHT
BEGIN:STANDARD
TZOFFSETFROM:-0500
TZOFFSETTO:-0600
TZNAME:CST
DTSTART:20251102T070000
END:STANDARD
END:VTIMEZONE
BEGIN:VEVENT
DTSTART;TZID=America/Chicago:20251109T080000
DTEND;TZID=America/Chicago:20251109T090000
DTSTAMP:20260424T092658
CREATED:20231109T151018Z
LAST-MODIFIED:20251109T125805Z
UID:88723-1762675200-1762678800@www.gogremlins.com
SUMMARY:8am Mass at Sacred Heart Chapel
DESCRIPTION:
URL:https://www.gogremlins.com/event/8am-mass-at-sacred-heart-chapel-271/
LOCATION:Sacred Heart Chapel
CATEGORIES:Faith Life
END:VEVENT
BEGIN:VEVENT
DTSTART;TZID=America/Chicago:20251109T080000
DTEND;TZID=America/Chicago:20251109T130000
DTSTAMP:20260424T092658
CREATED:20250909T180944Z
LAST-MODIFIED:20251109T145804Z
UID:109813-1762675200-1762693200@www.gogremlins.com
SUMMARY:Knights of Columbus - Breakfast
DESCRIPTION:
URL:https://www.gogremlins.com/event/knights-of-columbus/
CATEGORIES:Main
END:VEVENT
BEGIN:VEVENT
DTSTART;TZID=America/Chicago:20251109T090000
DTEND;TZID=America/Chicago:20251109T100000
DTSTAMP:20260424T092658
CREATED:20231109T151015Z
LAST-MODIFIED:20251109T125805Z
UID:88722-1762678800-1762682400@www.gogremlins.com
SUMMARY:9am Mass at St. Patrick Chapel
DESCRIPTION:
URL:https://www.gogremlins.com/event/9am-mass-at-st-patrick-chapel-278/
LOCATION:St. Patrick Chapel
CATEGORIES:Faith Life
END:VEVENT
BEGIN:VEVENT
DTSTART;TZID=America/Chicago:20251109T100000
DTEND;TZID=America/Chicago:20251109T110000
DTSTAMP:20260424T092658
CREATED:20231109T151018Z
LAST-MODIFIED:20251109T125804Z
UID:88724-1762682400-1762686000@www.gogremlins.com
SUMMARY:10am Mass at Sacred Heart Chapel
DESCRIPTION:
URL:https://www.gogremlins.com/event/10am-mass-at-sacred-heart-chapel-282/
LOCATION:Sacred Heart Chapel
CATEGORIES:Faith Life
END:VEVENT
BEGIN:VEVENT
DTSTART;TZID=America/Chicago:20251109T113000
DTEND;TZID=America/Chicago:20251109T123000
DTSTAMP:20260424T092658
CREATED:20231109T151019Z
LAST-MODIFIED:20251109T125806Z
UID:88725-1762687800-1762691400@www.gogremlins.com
SUMMARY:11:30am Spanish Mass at St. Patrick Chapel
DESCRIPTION:
URL:https://www.gogremlins.com/event/1130am-spanish-mass-at-st-patrick-chapel-278/
LOCATION:St. Patrick Chapel
CATEGORIES:Faith Life
END:VEVENT
BEGIN:VEVENT
DTSTART;TZID=America/Chicago:20251109T120000
DTEND;TZID=America/Chicago:20251109T190000
DTSTAMP:20260424T092658
CREATED:20250924T202525Z
LAST-MODIFIED:20251109T145804Z
UID:110392-1762689600-1762714800@www.gogremlins.com
SUMMARY:Field Trip: Music Appreciation (Grades 9-12)
DESCRIPTION:
URL:https://www.gogremlins.com/event/field-trip-music-appreciation-grades-9-12/
CATEGORIES:Main
END:VEVENT
END:VCALENDAR