BEGIN:VCALENDAR
VERSION:2.0
PRODID:-//Sacred Heart School - ECPv5.8.1//NONSGML v1.0//EN
CALSCALE:GREGORIAN
METHOD:PUBLISH
X-WR-CALNAME:Sacred Heart School
X-ORIGINAL-URL:https://www.gogremlins.com
X-WR-CALDESC:Events for Sacred Heart School
BEGIN:VTIMEZONE
TZID:America/Chicago
BEGIN:DAYLIGHT
TZOFFSETFROM:-0600
TZOFFSETTO:-0500
TZNAME:CDT
DTSTART:20250309T080000
END:DAYLIGHT
BEGIN:STANDARD
TZOFFSETFROM:-0500
TZOFFSETTO:-0600
TZNAME:CST
DTSTART:20251102T070000
END:STANDARD
END:VTIMEZONE
BEGIN:VEVENT
DTSTART;TZID=America/Chicago:20250726T090000
DTEND;TZID=America/Chicago:20250726T110000
DTSTAMP:20260421T104954
CREATED:20230726T182545Z
LAST-MODIFIED:20250726T123910Z
UID:84977-1753520400-1753527600@www.gogremlins.com
SUMMARY:Reconciliation @ SH Chapel
DESCRIPTION:
URL:https://www.gogremlins.com/event/reconciliation-sh-chapel-233/
LOCATION:Sacred Heart Catholic Church\, 421 W 3rd St\, Sedalia\, MO 65301\, USA\, 101 W 3rd St\, United States
CATEGORIES:Faith Life
GEO:38.708641;-93.228156
X-APPLE-STRUCTURED-LOCATION;VALUE=URI;X-ADDRESS=Sacred Heart Catholic Church 421 W 3rd St Sedalia MO 65301 USA 101 W 3rd St United States;X-APPLE-RADIUS=500;X-TITLE=101 W 3rd St:geo:-93.228156,38.708641
END:VEVENT
BEGIN:VEVENT
DTSTART;TZID=America/Chicago:20250726T160000
DTEND;TZID=America/Chicago:20250726T170000
DTSTAMP:20260421T104954
CREATED:20230726T182545Z
LAST-MODIFIED:20250726T123911Z
UID:84978-1753545600-1753549200@www.gogremlins.com
SUMMARY:4pm Mass at St. Patrick Chapel
DESCRIPTION:
URL:https://www.gogremlins.com/event/4pm-mass-at-st-patrick-chapel-266/
LOCATION:St. Patrick Chapel
CATEGORIES:Faith Life
END:VEVENT
BEGIN:VEVENT
DTSTART;TZID=America/Chicago:20250726T193000
DTEND;TZID=America/Chicago:20250726T203000
DTSTAMP:20260421T104954
CREATED:20230727T184225Z
LAST-MODIFIED:20230816T212504Z
UID:85018-1753558200-1753561800@www.gogremlins.com
SUMMARY:7:30pm Mass at St. John's Chapel
DESCRIPTION:
URL:https://www.gogremlins.com/event/730pm-mass-at-st-johns-chapel-258/
LOCATION:St. John the Evangelist Chapel
CATEGORIES:Faith Life
END:VEVENT
END:VCALENDAR