BEGIN:VCALENDAR
VERSION:2.0
PRODID:-//Sacred Heart School - ECPv5.8.1//NONSGML v1.0//EN
CALSCALE:GREGORIAN
METHOD:PUBLISH
X-WR-CALNAME:Sacred Heart School
X-ORIGINAL-URL:https://www.gogremlins.com
X-WR-CALDESC:Events for Sacred Heart School
BEGIN:VTIMEZONE
TZID:America/Chicago
BEGIN:DAYLIGHT
TZOFFSETFROM:-0600
TZOFFSETTO:-0500
TZNAME:CDT
DTSTART:20250309T080000
END:DAYLIGHT
BEGIN:STANDARD
TZOFFSETFROM:-0500
TZOFFSETTO:-0600
TZNAME:CST
DTSTART:20251102T070000
END:STANDARD
END:VTIMEZONE
BEGIN:VEVENT
DTSTART;TZID=America/Chicago:20250119T080000
DTEND;TZID=America/Chicago:20250119T090000
DTSTAMP:20260421T132821
CREATED:20230119T185227Z
LAST-MODIFIED:20250119T132941Z
UID:78087-1737273600-1737277200@www.gogremlins.com
SUMMARY:8am Mass at Sacred Heart Chapel
DESCRIPTION:
URL:https://www.gogremlins.com/event/8am-mass-at-sacred-heart-chapel-229/
LOCATION:Sacred Heart Chapel
CATEGORIES:Faith Life
END:VEVENT
BEGIN:VEVENT
DTSTART;TZID=America/Chicago:20250119T090000
DTEND;TZID=America/Chicago:20250119T100000
DTSTAMP:20260421T132821
CREATED:20230119T185228Z
LAST-MODIFIED:20250119T132943Z
UID:78089-1737277200-1737280800@www.gogremlins.com
SUMMARY:9am Mass at St. Patrick Chapel
DESCRIPTION:
URL:https://www.gogremlins.com/event/9am-mass-at-st-patrick-chapel-236/
LOCATION:St. Patrick Chapel
CATEGORIES:Faith Life
END:VEVENT
BEGIN:VEVENT
DTSTART;TZID=America/Chicago:20250119T100000
DTEND;TZID=America/Chicago:20250119T110000
DTSTAMP:20260421T132821
CREATED:20230119T185227Z
LAST-MODIFIED:20250119T132942Z
UID:78088-1737280800-1737284400@www.gogremlins.com
SUMMARY:10am Mass at Sacred Heart Chapel
DESCRIPTION:
URL:https://www.gogremlins.com/event/10am-mass-at-sacred-heart-chapel-240/
LOCATION:Sacred Heart Chapel
CATEGORIES:Faith Life
END:VEVENT
BEGIN:VEVENT
DTSTART;TZID=America/Chicago:20250119T113000
DTEND;TZID=America/Chicago:20250119T123000
DTSTAMP:20260421T132821
CREATED:20230119T185228Z
LAST-MODIFIED:20250119T132943Z
UID:78090-1737286200-1737289800@www.gogremlins.com
SUMMARY:11:30am Spanish Mass at St. Patrick Chapel
DESCRIPTION:
URL:https://www.gogremlins.com/event/1130am-spanish-mass-at-st-patrick-chapel-236/
LOCATION:St. Patrick Chapel
CATEGORIES:Faith Life
END:VEVENT
END:VCALENDAR