BEGIN:VCALENDAR
VERSION:2.0
PRODID:-//Sacred Heart School - ECPv5.8.1//NONSGML v1.0//EN
CALSCALE:GREGORIAN
METHOD:PUBLISH
X-WR-CALNAME:Sacred Heart School
X-ORIGINAL-URL:https://www.gogremlins.com
X-WR-CALDESC:Events for Sacred Heart School
BEGIN:VTIMEZONE
TZID:America/Chicago
BEGIN:DAYLIGHT
TZOFFSETFROM:-0600
TZOFFSETTO:-0500
TZNAME:CDT
DTSTART:20250309T080000
END:DAYLIGHT
BEGIN:STANDARD
TZOFFSETFROM:-0500
TZOFFSETTO:-0600
TZNAME:CST
DTSTART:20251102T070000
END:STANDARD
END:VTIMEZONE
BEGIN:VEVENT
DTSTART;VALUE=DATE:20250118
DTEND;VALUE=DATE:20250119
DTSTAMP:20260421T150403
CREATED:20241014T224442Z
LAST-MODIFIED:20250118T080136Z
UID:98767-1737158400-1737244799@www.gogremlins.com
SUMMARY:Swim @ Tiger Invitational
DESCRIPTION:
URL:https://www.gogremlins.com/event/swim-tiger-invitational/
CATEGORIES:HS Swimming
END:VEVENT
BEGIN:VEVENT
DTSTART;TZID=America/Chicago:20250118T090000
DTEND;TZID=America/Chicago:20250118T110000
DTSTAMP:20260421T150403
CREATED:20230118T170555Z
LAST-MODIFIED:20250118T125951Z
UID:78032-1737190800-1737198000@www.gogremlins.com
SUMMARY:Reconciliation @ SH Chapel
DESCRIPTION:
URL:https://www.gogremlins.com/event/reconciliation-sh-chapel-206/
LOCATION:Sacred Heart Catholic Church\, 421 W 3rd St\, Sedalia\, MO 65301\, USA\, 101 W 3rd St\, United States
CATEGORIES:Faith Life
GEO:38.708641;-93.228156
X-APPLE-STRUCTURED-LOCATION;VALUE=URI;X-ADDRESS=Sacred Heart Catholic Church 421 W 3rd St Sedalia MO 65301 USA 101 W 3rd St United States;X-APPLE-RADIUS=500;X-TITLE=101 W 3rd St:geo:-93.228156,38.708641
END:VEVENT
BEGIN:VEVENT
DTSTART;TZID=America/Chicago:20250118T090000
DTEND;TZID=America/Chicago:20250118T120000
DTSTAMP:20260421T150403
CREATED:20240909T163330Z
LAST-MODIFIED:20250118T112958Z
UID:97637-1737190800-1737201600@www.gogremlins.com
SUMMARY:Bellarmine Speech Meet @ Sts. Peter & Paul - Boonville
DESCRIPTION:Bellarmine speech meet in Boonville @ Sts. Peter & Paul
URL:https://www.gogremlins.com/event/bellarmine-speech-meet-sts-peter-paul-boonville/
LOCATION:Boonville\, Boonville\, MO\, United States
CATEGORIES:Main
GEO:38.947811;-92.576296
END:VEVENT
BEGIN:VEVENT
DTSTART;TZID=America/Chicago:20250118T160000
DTEND;TZID=America/Chicago:20250118T170000
DTSTAMP:20260421T150403
CREATED:20230118T170556Z
LAST-MODIFIED:20250118T125952Z
UID:78033-1737216000-1737219600@www.gogremlins.com
SUMMARY:4pm Mass at St. Patrick Chapel
DESCRIPTION:
URL:https://www.gogremlins.com/event/4pm-mass-at-st-patrick-chapel-239/
LOCATION:St. Patrick Chapel
CATEGORIES:Faith Life
END:VEVENT
BEGIN:VEVENT
DTSTART;TZID=America/Chicago:20250118T193000
DTEND;TZID=America/Chicago:20250118T203000
DTSTAMP:20260421T150403
CREATED:20230119T185226Z
LAST-MODIFIED:20230816T212131Z
UID:78086-1737228600-1737232200@www.gogremlins.com
SUMMARY:7:30pm Mass at St. John's Chapel
DESCRIPTION:
URL:https://www.gogremlins.com/event/730pm-mass-at-st-johns-chapel-231/
LOCATION:St. John the Evangelist Chapel
CATEGORIES:Faith Life
END:VEVENT
END:VCALENDAR