BEGIN:VCALENDAR
VERSION:2.0
PRODID:-//Sacred Heart School - ECPv5.8.1//NONSGML v1.0//EN
CALSCALE:GREGORIAN
METHOD:PUBLISH
X-WR-CALNAME:Sacred Heart School
X-ORIGINAL-URL:https://www.gogremlins.com
X-WR-CALDESC:Events for Sacred Heart School
BEGIN:VTIMEZONE
TZID:America/Chicago
BEGIN:DAYLIGHT
TZOFFSETFROM:-0600
TZOFFSETTO:-0500
TZNAME:CDT
DTSTART:20250309T080000
END:DAYLIGHT
BEGIN:STANDARD
TZOFFSETFROM:-0500
TZOFFSETTO:-0600
TZNAME:CST
DTSTART:20251102T070000
END:STANDARD
END:VTIMEZONE
BEGIN:VEVENT
DTSTART;VALUE=DATE:20250109
DTEND;VALUE=DATE:20250110
DTSTAMP:20260422T044215
CREATED:20240730T123204Z
LAST-MODIFIED:20250109T092954Z
UID:96458-1736380800-1736467199@www.gogremlins.com
SUMMARY:Papa Johns Night for SH
DESCRIPTION:Sacred Heart School Night fundraiser.25% of your order will be donated back to Sacred Heart school.PROMO CODE: KSS001 \nCall 660-826-6698 or order at papajohns.com \nPapa John's is committed to supporting our community\, and ourtakeout and delivery options remain open and fully operational. When the homeis where you want to be\, we will bring high-quality pizza directly to yourdoor. We are closely monitoring the situation and following the guidance anddirection of local\, state and national officials in response to novelcoronavirus. You can learn about the precautions we are taking in a letter fromour CEO Rob Lynch\, located here: https://www.papajohns.com/healthandwellness
URL:https://www.gogremlins.com/event/papa-johns-night-for-sh-12/
CATEGORIES:Main
END:VEVENT
BEGIN:VEVENT
DTSTART;VALUE=DATE:20250109
DTEND;VALUE=DATE:20250110
DTSTAMP:20260422T044215
CREATED:20241218T191056Z
LAST-MODIFIED:20250109T092955Z
UID:101134-1736380800-1736467199@www.gogremlins.com
SUMMARY:First Day of School 2nd Semester
DESCRIPTION:
URL:https://www.gogremlins.com/event/first-day-of-school-2nd-semester/
CATEGORIES:Main
END:VEVENT
BEGIN:VEVENT
DTSTART;TZID=America/Chicago:20250109T083000
DTEND;TZID=America/Chicago:20250109T093000
DTSTAMP:20260422T044215
CREATED:20240625T224823Z
LAST-MODIFIED:20250109T100024Z
UID:95508-1736411400-1736415000@www.gogremlins.com
SUMMARY:All School Mass (Grades K-12) Angel
DESCRIPTION:Thursday\, January 9\, 6-12 Mass. Christmas Weekday. Readings: 1Jn 4:19-5:4; Lk 4: 14-22a.  \n8th (Angel Leads)
URL:https://www.gogremlins.com/event/mass-grades-6-12-12/
CATEGORIES:Faith Life
END:VEVENT
BEGIN:VEVENT
DTSTART;TZID=America/Chicago:20250109T173000
DTEND;TZID=America/Chicago:20250109T203000
DTSTAMP:20260422T044215
CREATED:20241014T202934Z
LAST-MODIFIED:20250109T194438Z
UID:98747-1736443800-1736454600@www.gogremlins.com
SUMMARY:JH Basketball @ Tipton
DESCRIPTION:
URL:https://www.gogremlins.com/event/jh-basketball-tipton/
CATEGORIES:JH Basketball
END:VEVENT
BEGIN:VEVENT
DTSTART;TZID=America/Chicago:20250109T180000
DTEND;TZID=America/Chicago:20250109T190000
DTSTAMP:20260422T044215
CREATED:20240808T215118Z
LAST-MODIFIED:20250109T100024Z
UID:96744-1736445600-1736449200@www.gogremlins.com
SUMMARY:First Communion Parent Meeting (English)
DESCRIPTION:SHS Music Room
URL:https://www.gogremlins.com/event/first-communion-parent-meeting-english-3/
CATEGORIES:Faith Life
END:VEVENT
BEGIN:VEVENT
DTSTART;TZID=America/Chicago:20250109T190000
DTEND;TZID=America/Chicago:20250109T200000
DTSTAMP:20260422T044215
CREATED:20240808T215118Z
LAST-MODIFIED:20250109T100025Z
UID:96743-1736449200-1736452800@www.gogremlins.com
SUMMARY:First Communion Parent Meeting (Spanish)
DESCRIPTION:SHS Music Room
URL:https://www.gogremlins.com/event/first-communion-parent-meeting-spanish-3/
CATEGORIES:Faith Life
END:VEVENT
END:VCALENDAR