BEGIN:VCALENDAR
VERSION:2.0
PRODID:-//Sacred Heart School - ECPv5.8.1//NONSGML v1.0//EN
CALSCALE:GREGORIAN
METHOD:PUBLISH
X-WR-CALNAME:Sacred Heart School
X-ORIGINAL-URL:https://www.gogremlins.com
X-WR-CALDESC:Events for Sacred Heart School
BEGIN:VTIMEZONE
TZID:America/Chicago
BEGIN:DAYLIGHT
TZOFFSETFROM:-0600
TZOFFSETTO:-0500
TZNAME:CDT
DTSTART:20190310T080000
END:DAYLIGHT
BEGIN:STANDARD
TZOFFSETFROM:-0500
TZOFFSETTO:-0600
TZNAME:CST
DTSTART:20191103T070000
END:STANDARD
END:VTIMEZONE
BEGIN:VEVENT
DTSTART;TZID=America/Chicago:20190829T084500
DTEND;TZID=America/Chicago:20190829T090500
DTSTAMP:20260422T015615
CREATED:20190824T170908Z
LAST-MODIFIED:20190829T180843Z
UID:27811-1567068300-1567069500@www.gogremlins.com
SUMMARY:Yearbook Distribution Assembly Grades 8-12
DESCRIPTION:Yearbook Distribution Assembly for grades 8-12
URL:https://www.gogremlins.com/event/yearbook-distribution-assembly-grades-8-12/
LOCATION:Main Gym
CATEGORIES:Main
END:VEVENT
END:VCALENDAR