BEGIN:VCALENDAR
VERSION:2.0
PRODID:-//Sacred Heart School - ECPv5.8.1//NONSGML v1.0//EN
CALSCALE:GREGORIAN
METHOD:PUBLISH
X-WR-CALNAME:Sacred Heart School
X-ORIGINAL-URL:https://www.gogremlins.com
X-WR-CALDESC:Events for Sacred Heart School
BEGIN:VTIMEZONE
TZID:America/Chicago
BEGIN:DAYLIGHT
TZOFFSETFROM:-0600
TZOFFSETTO:-0500
TZNAME:CDT
DTSTART:20210314T080000
END:DAYLIGHT
BEGIN:STANDARD
TZOFFSETFROM:-0500
TZOFFSETTO:-0600
TZNAME:CST
DTSTART:20211107T070000
END:STANDARD
END:VTIMEZONE
BEGIN:VEVENT
DTSTART;TZID=America/Chicago:20210225T000000
DTEND;TZID=America/Chicago:20210225T235900
DTSTAMP:20260423T201017
CREATED:20210127T165612Z
LAST-MODIFIED:20210225T175307Z
UID:50767-1614211200-1614297540@www.gogremlins.com
SUMMARY:RESCHEDULED: Winter Homecoming: Dress Up Day "Movie Genre Day!" (Grades 9-12)
DESCRIPTION:We are getting ready to roll out the red carpet for Homecoming. \nSpirit dress days for grades 9-12: \n\nMovie Genre Day! Check with your class president to know what genre your class is doing.
URL:https://www.gogremlins.com/event/winter-homecoming-dress-up-day-movie-genre-day-grades-9-12/
LOCATION:MO
CATEGORIES:Main
GEO:37.0958999;-94.4606913
END:VEVENT
END:VCALENDAR