BEGIN:VCALENDAR
VERSION:2.0
PRODID:-//Sacred Heart School - ECPv5.8.1//NONSGML v1.0//EN
CALSCALE:GREGORIAN
METHOD:PUBLISH
X-WR-CALNAME:Sacred Heart School
X-ORIGINAL-URL:https://www.gogremlins.com
X-WR-CALDESC:Events for Sacred Heart School
BEGIN:VTIMEZONE
TZID:America/Chicago
BEGIN:DAYLIGHT
TZOFFSETFROM:-0600
TZOFFSETTO:-0500
TZNAME:CDT
DTSTART:20180311T080000
END:DAYLIGHT
BEGIN:STANDARD
TZOFFSETFROM:-0500
TZOFFSETTO:-0600
TZNAME:CST
DTSTART:20181104T070000
END:STANDARD
END:VTIMEZONE
BEGIN:VEVENT
DTSTART;TZID=America/Chicago:20181110T080000
DTEND;TZID=America/Chicago:20181110T120000
DTSTAMP:20260421T164839
CREATED:20180828T195550Z
LAST-MODIFIED:20180830T180648Z
UID:13761-1541836800-1541851200@www.gogremlins.com
SUMMARY:Volunteer Work Session
DESCRIPTION:This event has a Google Hangouts video call.\nJoin: https://plus.google.com/hangouts/_/gogremlins.com/lmares-mfreels?hceid=Z29ncmVtbGlucy5jb21fYTNqNG0zbmp0ZWM5ZTZzYXVmOTlyc29vMDBAZ3JvdXAuY2FsZW5kYXIuZ29vZ2xlLmNvbQ.1vaav698sph7r4g8pa3q62vi5p&hs=121
URL:https://www.gogremlins.com/event/volunteer-work-session-41/
LOCATION:Meet in cafeteria
CATEGORIES:Main
END:VEVENT
END:VCALENDAR