BEGIN:VCALENDAR
VERSION:2.0
PRODID:-//Sacred Heart School - ECPv5.8.1//NONSGML v1.0//EN
CALSCALE:GREGORIAN
METHOD:PUBLISH
X-WR-CALNAME:Sacred Heart School
X-ORIGINAL-URL:https://www.gogremlins.com
X-WR-CALDESC:Events for Sacred Heart School
BEGIN:VTIMEZONE
TZID:America/Chicago
BEGIN:DAYLIGHT
TZOFFSETFROM:-0600
TZOFFSETTO:-0500
TZNAME:CDT
DTSTART:20210314T080000
END:DAYLIGHT
BEGIN:STANDARD
TZOFFSETFROM:-0500
TZOFFSETTO:-0600
TZNAME:CST
DTSTART:20211107T070000
END:STANDARD
END:VTIMEZONE
BEGIN:VEVENT
DTSTART;TZID=America/Chicago:20210208T173000
DTEND;TZID=America/Chicago:20210208T183000
DTSTAMP:20260424T035252
CREATED:20201002T052336Z
LAST-MODIFIED:20210208T180944Z
UID:45888-1612805400-1612809000@www.gogremlins.com
SUMMARY:CANCELLED- Varsity/JV Boys Basketball at home vs Leeton
DESCRIPTION:JV boys will start at 5:30 playing 2 quarters followed by Varsity girls then Varsity boys. Tickets are required to attend. Masks must be worn at all times.
URL:https://www.gogremlins.com/event/varsity-jv-boys-basketball-at-home-vs-leeton/
CATEGORIES:HS Boys Basketball
END:VEVENT
END:VCALENDAR