BEGIN:VCALENDAR
VERSION:2.0
PRODID:-//Sacred Heart School - ECPv5.8.1//NONSGML v1.0//EN
CALSCALE:GREGORIAN
METHOD:PUBLISH
X-WR-CALNAME:Sacred Heart School
X-ORIGINAL-URL:https://www.gogremlins.com
X-WR-CALDESC:Events for Sacred Heart School
BEGIN:VTIMEZONE
TZID:America/Chicago
BEGIN:DAYLIGHT
TZOFFSETFROM:-0600
TZOFFSETTO:-0500
TZNAME:CDT
DTSTART:20210314T080000
END:DAYLIGHT
BEGIN:STANDARD
TZOFFSETFROM:-0500
TZOFFSETTO:-0600
TZNAME:CST
DTSTART:20211107T070000
END:STANDARD
END:VTIMEZONE
BEGIN:VEVENT
DTSTART;TZID=America/Chicago:20210331T170000
DTEND;TZID=America/Chicago:20210331T180000
DTSTAMP:20260424T133845
CREATED:20210211T215354Z
LAST-MODIFIED:20210331T193906Z
UID:51540-1617210000-1617213600@www.gogremlins.com
SUMMARY:Varsity/JV Baseball @ Sweet Springs
DESCRIPTION:
URL:https://www.gogremlins.com/event/varsity-jv-baseball-sweet-springs-2/
CATEGORIES:HS Baseball
END:VEVENT
END:VCALENDAR