BEGIN:VCALENDAR
VERSION:2.0
PRODID:-//Sacred Heart School - ECPv5.8.1//NONSGML v1.0//EN
CALSCALE:GREGORIAN
METHOD:PUBLISH
X-WR-CALNAME:Sacred Heart School
X-ORIGINAL-URL:https://www.gogremlins.com
X-WR-CALDESC:Events for Sacred Heart School
BEGIN:VTIMEZONE
TZID:America/Chicago
BEGIN:DAYLIGHT
TZOFFSETFROM:-0600
TZOFFSETTO:-0500
TZNAME:CDT
DTSTART:20210314T080000
END:DAYLIGHT
BEGIN:STANDARD
TZOFFSETFROM:-0500
TZOFFSETTO:-0600
TZNAME:CST
DTSTART:20211107T070000
END:STANDARD
END:VTIMEZONE
BEGIN:VEVENT
DTSTART;TZID=America/Chicago:20210330T170000
DTEND;TZID=America/Chicago:20210330T173000
DTSTAMP:20260424T174729
CREATED:20201107T005722Z
LAST-MODIFIED:20210329T192447Z
UID:47792-1617123600-1617125400@www.gogremlins.com
SUMMARY:Varsity/JV baseball @ home vs Pilot Grove
DESCRIPTION:
URL:https://www.gogremlins.com/event/varsity-jv-baseball-home-vs-otterville/
LOCATION:Liberty Park Stadium\, Sedalia\, MO\, 1600-1734 W 3rd St\, Sedalia\, MO 65301\, USA
CATEGORIES:HS Baseball
END:VEVENT
END:VCALENDAR