BEGIN:VCALENDAR
VERSION:2.0
PRODID:-//Sacred Heart School - ECPv5.8.1//NONSGML v1.0//EN
CALSCALE:GREGORIAN
METHOD:PUBLISH
X-WR-CALNAME:Sacred Heart School
X-ORIGINAL-URL:https://www.gogremlins.com
X-WR-CALDESC:Events for Sacred Heart School
BEGIN:VTIMEZONE
TZID:America/Chicago
BEGIN:DAYLIGHT
TZOFFSETFROM:-0600
TZOFFSETTO:-0500
TZNAME:CDT
DTSTART:20190310T080000
END:DAYLIGHT
BEGIN:STANDARD
TZOFFSETFROM:-0500
TZOFFSETTO:-0600
TZNAME:CST
DTSTART:20191103T070000
END:STANDARD
END:VTIMEZONE
BEGIN:VEVENT
DTSTART;TZID=America/Chicago:20191031T160000
DTEND;TZID=America/Chicago:20191031T180000
DTSTAMP:20260423T035409
CREATED:20190927T122350Z
LAST-MODIFIED:20191030T153923Z
UID:28901-1572537600-1572544800@www.gogremlins.com
SUMMARY:Trunk or Treat
DESCRIPTION:The Trunk or Treat is BACK! Last year was our first year and it was a bigger success than we anticipated (500+ kids) so this year we need YOUR help! \nAnyone can have a trunk and anyone can join us for this fun event. Please print and fill out the form or sign up online www.tinyurl.com/SHTrunkorTreat \nWe will be serving hot dogs thanks to a generous donation from Tyson and are hoping to have a haunted school bus as well!
URL:https://www.gogremlins.com/event/trunk-or-treat-2/
LOCATION:Sacred Heart High School\, 416 W 3rd St\, Sedalia\, MO 65301\, USA\, 101 W 3rd St\, United States
CATEGORIES:Main
GEO:38.708641;-93.228156
X-APPLE-STRUCTURED-LOCATION;VALUE=URI;X-ADDRESS=Sacred Heart High School 416 W 3rd St Sedalia MO 65301 USA 101 W 3rd St United States;X-APPLE-RADIUS=500;X-TITLE=101 W 3rd St:geo:-93.228156,38.708641
END:VEVENT
END:VCALENDAR