BEGIN:VCALENDAR
VERSION:2.0
PRODID:-//Sacred Heart School - ECPv5.8.1//NONSGML v1.0//EN
CALSCALE:GREGORIAN
METHOD:PUBLISH
X-WR-CALNAME:Sacred Heart School
X-ORIGINAL-URL:https://www.gogremlins.com
X-WR-CALDESC:Events for Sacred Heart School
BEGIN:VTIMEZONE
TZID:America/Chicago
BEGIN:DAYLIGHT
TZOFFSETFROM:-0600
TZOFFSETTO:-0500
TZNAME:CDT
DTSTART:20190310T080000
END:DAYLIGHT
BEGIN:STANDARD
TZOFFSETFROM:-0500
TZOFFSETTO:-0600
TZNAME:CST
DTSTART:20191103T070000
END:STANDARD
END:VTIMEZONE
BEGIN:VEVENT
DTSTART;TZID=America/Chicago:20191106T174500
DTEND;TZID=America/Chicago:20191106T181500
DTSTAMP:20260422T045400
CREATED:20191029T152455Z
LAST-MODIFIED:20191107T211308Z
UID:29918-1573062300-1573064100@www.gogremlins.com
SUMMARY:Swim Meeting (Grades 9-12)
DESCRIPTION:Wednesday\, Nov. 6th at 5:45 at the Sedalia Middle School Pool. \nAll parents and potential swimmers are invited to attend.  Come hear about the program from Coach Tankersley and see the facilities.  \nContact Mrs. Hegger for more information or if you can’t attend.  See everyone soon!
URL:https://www.gogremlins.com/event/swim-meeting-grades-9-12/
LOCATION:Sedalia Middle School Pool
CATEGORIES:Main
END:VEVENT
END:VCALENDAR