BEGIN:VCALENDAR
VERSION:2.0
PRODID:-//Sacred Heart School - ECPv5.8.1//NONSGML v1.0//EN
CALSCALE:GREGORIAN
METHOD:PUBLISH
X-WR-CALNAME:Sacred Heart School
X-ORIGINAL-URL:https://www.gogremlins.com
X-WR-CALDESC:Events for Sacred Heart School
BEGIN:VTIMEZONE
TZID:America/Chicago
BEGIN:DAYLIGHT
TZOFFSETFROM:-0600
TZOFFSETTO:-0500
TZNAME:CDT
DTSTART:20260308T080000
END:DAYLIGHT
BEGIN:STANDARD
TZOFFSETFROM:-0500
TZOFFSETTO:-0600
TZNAME:CST
DTSTART:20261101T070000
END:STANDARD
END:VTIMEZONE
BEGIN:VEVENT
DTSTART;TZID=America/Chicago:20260313T090000
DTEND;TZID=America/Chicago:20260313T094500
DTSTAMP:20260424T073403
CREATED:20250507T175006Z
LAST-MODIFIED:20260318T140803Z
UID:104926-1773392400-1773395100@www.gogremlins.com
SUMMARY:Stations of the Cross (grades 6-12)
DESCRIPTION:
URL:https://www.gogremlins.com/event/stations-of-the-cross-freshmen-lead-6-12/
LOCATION:Sacred Heart Chapel
CATEGORIES:Faith Life
END:VEVENT
END:VCALENDAR