BEGIN:VCALENDAR
VERSION:2.0
PRODID:-//Sacred Heart School - ECPv5.8.1//NONSGML v1.0//EN
CALSCALE:GREGORIAN
METHOD:PUBLISH
X-WR-CALNAME:Sacred Heart School
X-ORIGINAL-URL:https://www.gogremlins.com
X-WR-CALDESC:Events for Sacred Heart School
BEGIN:VTIMEZONE
TZID:America/Chicago
BEGIN:DAYLIGHT
TZOFFSETFROM:-0600
TZOFFSETTO:-0500
TZNAME:CDT
DTSTART:20220313T080000
END:DAYLIGHT
BEGIN:STANDARD
TZOFFSETFROM:-0500
TZOFFSETTO:-0600
TZNAME:CST
DTSTART:20221106T070000
END:STANDARD
END:VTIMEZONE
BEGIN:VEVENT
DTSTART;VALUE=DATE:20221003
DTEND;VALUE=DATE:20221008
DTSTAMP:20260423T140101
CREATED:20220912T151008Z
LAST-MODIFIED:20221007T164255Z
UID:72935-1664755200-1665187199@www.gogremlins.com
SUMMARY:3rd-10th Standardized Testing
DESCRIPTION:Standardized testing will take place Monday\, October 3rd – Friday\, October 7th for grades 3-10.  For grades 6-10\, this will mostly only interfere with homeroom and 1st hour with the exception of Monday when the afternoon will be utilized for the CogAT (7th and 9th grades only).
URL:https://www.gogremlins.com/event/standardized-testing/
CATEGORIES:Main
END:VEVENT
END:VCALENDAR