BEGIN:VCALENDAR
VERSION:2.0
PRODID:-//Sacred Heart School - ECPv5.8.1//NONSGML v1.0//EN
CALSCALE:GREGORIAN
METHOD:PUBLISH
X-WR-CALNAME:Sacred Heart School
X-ORIGINAL-URL:https://www.gogremlins.com
X-WR-CALDESC:Events for Sacred Heart School
BEGIN:VTIMEZONE
TZID:America/Chicago
BEGIN:DAYLIGHT
TZOFFSETFROM:-0600
TZOFFSETTO:-0500
TZNAME:CDT
DTSTART:20180311T080000
END:DAYLIGHT
BEGIN:STANDARD
TZOFFSETFROM:-0500
TZOFFSETTO:-0600
TZNAME:CST
DTSTART:20181104T070000
END:STANDARD
END:VTIMEZONE
BEGIN:VEVENT
DTSTART;TZID=America/Chicago:20180805T050000
DTEND;TZID=America/Chicago:20180805T063000
DTSTAMP:20260421T223331
CREATED:20180827T201139Z
LAST-MODIFIED:20201108T085520Z
UID:13587-1533445200-1533450600@www.gogremlins.com
SUMMARY:St. Patrick Church Potluck Breakfast
DESCRIPTION:ST PATRICK CHURCH POTLUCK BREAKFAST \n \nFor the summer months\, a food and fellowship event will held in the St. Patrick Church Hall on the first Sunday of each month—June 3\, July 1\, and August 5 after the 9 a.m. Mass and before the 11:30 a.m. Mass.  We are asking each family member who will participate in the potluck breakfast to bring their favorite breakfast item (i.e.—breakfast casseroles\, fruit\, biscuit and gravy\, muffins\, donuts\, cinnamon rolls) to share with the rest of the families.  We encourage all cultures and the families of the Pettis County Catholic Community to join in on the event so we can enjoy their food plus learn more about each other.    \n \nIf anyone is interested in helping with set-up\, planning or ideas\, please feel free to contact Chuck and Tina Mattingly at 660-281-5031 or 660-281-5032.  Please watch future bulletins for updates.
URL:https://www.gogremlins.com/event/st-patrick-church-potluck-breakfast/
CATEGORIES:Main
END:VEVENT
END:VCALENDAR