BEGIN:VCALENDAR
VERSION:2.0
PRODID:-//Sacred Heart School - ECPv5.8.1//NONSGML v1.0//EN
CALSCALE:GREGORIAN
METHOD:PUBLISH
X-WR-CALNAME:Sacred Heart School
X-ORIGINAL-URL:https://www.gogremlins.com
X-WR-CALDESC:Events for Sacred Heart School
BEGIN:VTIMEZONE
TZID:America/Chicago
BEGIN:DAYLIGHT
TZOFFSETFROM:-0600
TZOFFSETTO:-0500
TZNAME:CDT
DTSTART:20180311T080000
END:DAYLIGHT
BEGIN:STANDARD
TZOFFSETFROM:-0500
TZOFFSETTO:-0600
TZNAME:CST
DTSTART:20181104T070000
END:STANDARD
END:VTIMEZONE
BEGIN:VEVENT
DTSTART;VALUE=DATE:20181206
DTEND;VALUE=DATE:20181207
DTSTAMP:20260421T194519
CREATED:20180907T043451Z
LAST-MODIFIED:20181206T213414Z
UID:15236-1544054400-1544140799@www.gogremlins.com
SUMMARY:Spirit Dress Day
DESCRIPTION:Spirit Dress Day Policy: \n\nJeans or dress shorts (during warm weather seasons) may be worn.\nAll pants & jeans are to be neat and clean with no rips\, holes\, or frays.\nAny Gremlin or Sacred Heart top\, or a plain red or white top may be worn.  Tops must have sleeves.\nIf the top is not a Gremlin or Sacred Heart top there should be no other writing on it.\nStudents may wear their shirts untucked on Spirit Dress days.\nA belt need not be worn on Spirit Dress days unless the pants are too loose fitting to be held up otherwise.\nStudents who choose not to dress in Spirit Dress attire are expected to wear the uniform.  Students who simply forget may take advantage of being untucked if they choose.\nSpirit Dress days are free.\nTights or Yoga Pants are not permitted.
URL:https://www.gogremlins.com/event/spirit-dress-day-4/
CATEGORIES:Main
END:VEVENT
END:VCALENDAR