BEGIN:VCALENDAR
VERSION:2.0
PRODID:-//Sacred Heart School - ECPv5.8.1//NONSGML v1.0//EN
CALSCALE:GREGORIAN
METHOD:PUBLISH
X-WR-CALNAME:Sacred Heart School
X-ORIGINAL-URL:https://www.gogremlins.com
X-WR-CALDESC:Events for Sacred Heart School
BEGIN:VTIMEZONE
TZID:America/Chicago
BEGIN:DAYLIGHT
TZOFFSETFROM:-0600
TZOFFSETTO:-0500
TZNAME:CDT
DTSTART:20220313T080000
END:DAYLIGHT
BEGIN:STANDARD
TZOFFSETFROM:-0500
TZOFFSETTO:-0600
TZNAME:CST
DTSTART:20221106T070000
END:STANDARD
END:VTIMEZONE
BEGIN:VEVENT
DTSTART;TZID=America/Chicago:20220118T112500
DTEND;TZID=America/Chicago:20220118T115500
DTSTAMP:20260423T182901
CREATED:20210827T220706Z
LAST-MODIFIED:20220117T203847Z
UID:59467-1642505100-1642506900@www.gogremlins.com
SUMMARY:Sophomore/Lit Music XLT
DESCRIPTION:Mr. Hartman
URL:https://www.gogremlins.com/event/sophomore-lit-music-xlt-4/
LOCATION:SH Chapel
CATEGORIES:Faith Life
END:VEVENT
END:VCALENDAR