BEGIN:VCALENDAR
VERSION:2.0
PRODID:-//Sacred Heart School - ECPv5.8.1//NONSGML v1.0//EN
CALSCALE:GREGORIAN
METHOD:PUBLISH
X-WR-CALNAME:Sacred Heart School
X-ORIGINAL-URL:https://www.gogremlins.com
X-WR-CALDESC:Events for Sacred Heart School
BEGIN:VTIMEZONE
TZID:America/Chicago
BEGIN:DAYLIGHT
TZOFFSETFROM:-0600
TZOFFSETTO:-0500
TZNAME:CDT
DTSTART:20200308T080000
END:DAYLIGHT
BEGIN:STANDARD
TZOFFSETFROM:-0500
TZOFFSETTO:-0600
TZNAME:CST
DTSTART:20201101T070000
END:STANDARD
END:VTIMEZONE
BEGIN:VEVENT
DTSTART;TZID=America/Chicago:20200414T170000
DTEND;TZID=America/Chicago:20200414T200000
DTSTAMP:20260422T215259
CREATED:20200227T012413Z
LAST-MODIFIED:20200414T065517Z
UID:33514-1586883600-1586894400@www.gogremlins.com
SUMMARY:Canceled Softball Home vs Green Ridge V then Jv
DESCRIPTION:
URL:https://www.gogremlins.com/event/softball-home-vs-green-ridge-v-then-jv/
CATEGORIES:HS Softball
END:VEVENT
END:VCALENDAR