BEGIN:VCALENDAR
VERSION:2.0
PRODID:-//Sacred Heart School - ECPv5.8.1//NONSGML v1.0//EN
CALSCALE:GREGORIAN
METHOD:PUBLISH
X-WR-CALNAME:Sacred Heart School
X-ORIGINAL-URL:https://www.gogremlins.com
X-WR-CALDESC:Events for Sacred Heart School
BEGIN:VTIMEZONE
TZID:America/Chicago
BEGIN:DAYLIGHT
TZOFFSETFROM:-0600
TZOFFSETTO:-0500
TZNAME:CDT
DTSTART:20200308T080000
END:DAYLIGHT
BEGIN:STANDARD
TZOFFSETFROM:-0500
TZOFFSETTO:-0600
TZNAME:CST
DTSTART:20201101T070000
END:STANDARD
END:VTIMEZONE
BEGIN:VEVENT
DTSTART;TZID=America/Chicago:20200127T084500
DTEND;TZID=America/Chicago:20200127T091500
DTSTAMP:20260422T125514
CREATED:20200122T122500Z
LAST-MODIFIED:20200127T212600Z
UID:32452-1580114700-1580116500@www.gogremlins.com
SUMMARY:Signing of the Mayoral Proclamation and Prayer Service with local pastors
DESCRIPTION:
URL:https://www.gogremlins.com/event/signing-of-the-mayoral-proclamation-and-prayer-service-with-local-pastors/
LOCATION:Sacred Heart High School\, 416 W 3rd St\, Sedalia\, MO 65301\, USA\, 101 W 3rd St\, United States
CATEGORIES:Main
GEO:38.708641;-93.228156
X-APPLE-STRUCTURED-LOCATION;VALUE=URI;X-ADDRESS=Sacred Heart High School 416 W 3rd St Sedalia MO 65301 USA 101 W 3rd St United States;X-APPLE-RADIUS=500;X-TITLE=101 W 3rd St:geo:-93.228156,38.708641
END:VEVENT
END:VCALENDAR