BEGIN:VCALENDAR
VERSION:2.0
PRODID:-//Sacred Heart School - ECPv5.8.1//NONSGML v1.0//EN
CALSCALE:GREGORIAN
METHOD:PUBLISH
X-WR-CALNAME:Sacred Heart School
X-ORIGINAL-URL:https://www.gogremlins.com
X-WR-CALDESC:Events for Sacred Heart School
BEGIN:VTIMEZONE
TZID:America/Chicago
BEGIN:DAYLIGHT
TZOFFSETFROM:-0600
TZOFFSETTO:-0500
TZNAME:CDT
DTSTART:20190310T080000
END:DAYLIGHT
BEGIN:STANDARD
TZOFFSETFROM:-0500
TZOFFSETTO:-0600
TZNAME:CST
DTSTART:20191103T070000
END:STANDARD
END:VTIMEZONE
BEGIN:VEVENT
DTSTART;TZID=America/Chicago:20191105T130000
DTEND;TZID=America/Chicago:20191105T173000
DTSTAMP:20260422T105826
CREATED:20190724T215357Z
LAST-MODIFIED:20191105T160913Z
UID:26429-1572958800-1572975000@www.gogremlins.com
SUMMARY:SHS Blood Drive
DESCRIPTION:Contact bhagebusch@gogremlins.com to sign up to donate and save a LIFE! \nFuture Blood Drive Dates – January 29\, 2020 & May 4\, 2020!
URL:https://www.gogremlins.com/event/shs-blood-drive-2/
LOCATION:Hoying Gym
CATEGORIES:Main
END:VEVENT
END:VCALENDAR