BEGIN:VCALENDAR
VERSION:2.0
PRODID:-//Sacred Heart School - ECPv5.8.1//NONSGML v1.0//EN
CALSCALE:GREGORIAN
METHOD:PUBLISH
X-WR-CALNAME:Sacred Heart School
X-ORIGINAL-URL:https://www.gogremlins.com
X-WR-CALDESC:Events for Sacred Heart School
BEGIN:VTIMEZONE
TZID:America/Chicago
BEGIN:DAYLIGHT
TZOFFSETFROM:-0600
TZOFFSETTO:-0500
TZNAME:CDT
DTSTART:20190310T080000
END:DAYLIGHT
BEGIN:STANDARD
TZOFFSETFROM:-0500
TZOFFSETTO:-0600
TZNAME:CST
DTSTART:20191103T070000
END:STANDARD
END:VTIMEZONE
BEGIN:VEVENT
DTSTART;VALUE=DATE:20190301
DTEND;VALUE=DATE:20190302
DTSTAMP:20260421T181934
CREATED:20190214T222653Z
LAST-MODIFIED:20190301T165642Z
UID:21971-1551398400-1551484799@www.gogremlins.com
SUMMARY:Seniors: No School - Spirit Stick Winners
DESCRIPTION:Congrats to the Senior Class of 2019 on winning the 2019 Spirit Stick. The Senior Class gets a day off from school! Nice Job!
URL:https://www.gogremlins.com/event/seniors-no-school-spirit-stick-winners/
CATEGORIES:Main
END:VEVENT
END:VCALENDAR