BEGIN:VCALENDAR
VERSION:2.0
PRODID:-//Sacred Heart School - ECPv5.8.1//NONSGML v1.0//EN
CALSCALE:GREGORIAN
METHOD:PUBLISH
X-WR-CALNAME:Sacred Heart School
X-ORIGINAL-URL:https://www.gogremlins.com
X-WR-CALDESC:Events for Sacred Heart School
BEGIN:VTIMEZONE
TZID:America/Chicago
BEGIN:DAYLIGHT
TZOFFSETFROM:-0600
TZOFFSETTO:-0500
TZNAME:CDT
DTSTART:20190310T080000
END:DAYLIGHT
BEGIN:STANDARD
TZOFFSETFROM:-0500
TZOFFSETTO:-0600
TZNAME:CST
DTSTART:20191103T070000
END:STANDARD
END:VTIMEZONE
BEGIN:VEVENT
DTSTART;TZID=America/Chicago:20190214T180000
DTEND;TZID=America/Chicago:20190214T210000
DTSTAMP:20260422T153555
CREATED:20181206T213218Z
LAST-MODIFIED:20190215T120443Z
UID:19366-1550167200-1550178000@www.gogremlins.com
SUMMARY:Senior Parent Night
DESCRIPTION:6:00 JV Boys 2 quarters\n6:30 Varsity Girls\n7:30 Senior Recognition\n7:45 Varsity Boys\n\n*times are approximate after the 6 PM start time
URL:https://www.gogremlins.com/event/senior-parent-night/
LOCATION:MO
CATEGORIES:Main
END:VEVENT
END:VCALENDAR