BEGIN:VCALENDAR
VERSION:2.0
PRODID:-//Sacred Heart School - ECPv5.8.1//NONSGML v1.0//EN
CALSCALE:GREGORIAN
METHOD:PUBLISH
X-WR-CALNAME:Sacred Heart School
X-ORIGINAL-URL:https://www.gogremlins.com
X-WR-CALDESC:Events for Sacred Heart School
BEGIN:VTIMEZONE
TZID:America/Chicago
BEGIN:DAYLIGHT
TZOFFSETFROM:-0600
TZOFFSETTO:-0500
TZNAME:CDT
DTSTART:20230312T080000
END:DAYLIGHT
BEGIN:STANDARD
TZOFFSETFROM:-0500
TZOFFSETTO:-0600
TZNAME:CST
DTSTART:20231105T070000
END:STANDARD
END:VTIMEZONE
BEGIN:VEVENT
DTSTART;VALUE=DATE:20230517
DTEND;VALUE=DATE:20230518
DTSTAMP:20260424T001955
CREATED:20230424T191123Z
LAST-MODIFIED:20230517T184146Z
UID:81603-1684281600-1684367999@www.gogremlins.com
SUMMARY:Senior Finals
DESCRIPTION:Senior FinalsGiven within regular Class Period times (If your finals require more than 50 minutes\, please utilize a portion of another class period for a two-day final). Seniors may leave campus between finals. \nSeniors will be dismissed to Commons during home room to receive Finals Goodie Bag from priest. \nWednesday\, May 18th \n1st\, 4th\, and 6th Hour Finals
URL:https://www.gogremlins.com/event/senior-finals-6/
CATEGORIES:Main
END:VEVENT
END:VCALENDAR