BEGIN:VCALENDAR
VERSION:2.0
PRODID:-//Sacred Heart School - ECPv5.8.1//NONSGML v1.0//EN
CALSCALE:GREGORIAN
METHOD:PUBLISH
X-WR-CALNAME:Sacred Heart School
X-ORIGINAL-URL:https://www.gogremlins.com
X-WR-CALDESC:Events for Sacred Heart School
BEGIN:VTIMEZONE
TZID:America/Chicago
BEGIN:DAYLIGHT
TZOFFSETFROM:-0600
TZOFFSETTO:-0500
TZNAME:CDT
DTSTART:20240310T080000
END:DAYLIGHT
BEGIN:STANDARD
TZOFFSETFROM:-0500
TZOFFSETTO:-0600
TZNAME:CST
DTSTART:20241103T070000
END:STANDARD
END:VTIMEZONE
BEGIN:VEVENT
DTSTART;VALUE=DATE:20240517
DTEND;VALUE=DATE:20240518
DTSTAMP:20260423T173332
CREATED:20230506T141307Z
LAST-MODIFIED:20240416T140003Z
UID:82152-1715904000-1715990399@www.gogremlins.com
SUMMARY:Semester Finals (Grades 6\, 7\, 9\, 10\, and 11)
DESCRIPTION:Friday\, May 17 \n1st Hour             Final Review        7:50 AM –  9:02 AM         \n2nd Hour            Final Review        9:06 AM – 9:56 AM \n7th Hour             Final                     10:00 AM – 11:07 AM \nHS 4th Hour       Final Review        11:11 AM – 11:59 PM \nJH Lunch                                          11:07 AM – 11:35 AM \nJH 4th Hour        Final Review        11:39 AM – 12:27 PM \nHS Lunch                                           11:59 PM – 12:27 PM \n5th Hour              Final Review        12:31 PM – 1:19 PM \n6th Hour              Final Review        1:23 PM – 2:11 PM \n3rd Hour              Final Review        2:15 PM – 3:05 PM \n*Senior walk will take place at 2:15
URL:https://www.gogremlins.com/event/semester-finals-grades-6-7-9-10-and-11/
CATEGORIES:Main
END:VEVENT
END:VCALENDAR