BEGIN:VCALENDAR
VERSION:2.0
PRODID:-//Sacred Heart School - ECPv5.8.1//NONSGML v1.0//EN
CALSCALE:GREGORIAN
METHOD:PUBLISH
X-WR-CALNAME:Sacred Heart School
X-ORIGINAL-URL:https://www.gogremlins.com
X-WR-CALDESC:Events for Sacred Heart School
BEGIN:VTIMEZONE
TZID:America/Chicago
BEGIN:DAYLIGHT
TZOFFSETFROM:-0600
TZOFFSETTO:-0500
TZNAME:CDT
DTSTART:20200308T080000
END:DAYLIGHT
BEGIN:STANDARD
TZOFFSETFROM:-0500
TZOFFSETTO:-0600
TZNAME:CST
DTSTART:20201101T070000
END:STANDARD
END:VTIMEZONE
BEGIN:VEVENT
DTSTART;TZID=America/Chicago:20201204T080000
DTEND;TZID=America/Chicago:20201204T090000
DTSTAMP:20260424T132839
CREATED:20200902T180852Z
LAST-MODIFIED:20201119T132359Z
UID:43395-1607068800-1607072400@www.gogremlins.com
SUMMARY:School Mass (Grades 3-5)
DESCRIPTION:
URL:https://www.gogremlins.com/event/school-mass-grades-3-5-11/
CATEGORIES:Faith Life
END:VEVENT
END:VCALENDAR