BEGIN:VCALENDAR
VERSION:2.0
PRODID:-//Sacred Heart School - ECPv5.8.1//NONSGML v1.0//EN
CALSCALE:GREGORIAN
METHOD:PUBLISH
X-WR-CALNAME:Sacred Heart School
X-ORIGINAL-URL:https://www.gogremlins.com
X-WR-CALDESC:Events for Sacred Heart School
BEGIN:VTIMEZONE
TZID:America/Chicago
BEGIN:DAYLIGHT
TZOFFSETFROM:-0600
TZOFFSETTO:-0500
TZNAME:CDT
DTSTART:20200308T080000
END:DAYLIGHT
BEGIN:STANDARD
TZOFFSETFROM:-0500
TZOFFSETTO:-0600
TZNAME:CST
DTSTART:20201101T070000
END:STANDARD
END:VTIMEZONE
BEGIN:VEVENT
DTSTART;TZID=America/Chicago:20200108T180000
DTEND;TZID=America/Chicago:20200108T200000
DTSTAMP:20260422T171620
CREATED:20190813T161052Z
LAST-MODIFIED:20200108T200840Z
UID:27112-1578506400-1578513600@www.gogremlins.com
SUMMARY:School Advisory Council Meeting
DESCRIPTION:
URL:https://www.gogremlins.com/event/school-advisory-council-meeting-71/
LOCATION:Conference Room 208 in the school
CATEGORIES:Main
END:VEVENT
END:VCALENDAR