BEGIN:VCALENDAR
VERSION:2.0
PRODID:-//Sacred Heart School - ECPv5.8.1//NONSGML v1.0//EN
CALSCALE:GREGORIAN
METHOD:PUBLISH
X-WR-CALNAME:Sacred Heart School
X-ORIGINAL-URL:https://www.gogremlins.com
X-WR-CALDESC:Events for Sacred Heart School
BEGIN:VTIMEZONE
TZID:America/Chicago
BEGIN:DAYLIGHT
TZOFFSETFROM:-0600
TZOFFSETTO:-0500
TZNAME:CDT
DTSTART:20190310T080000
END:DAYLIGHT
BEGIN:STANDARD
TZOFFSETFROM:-0500
TZOFFSETTO:-0600
TZNAME:CST
DTSTART:20191103T070000
END:STANDARD
END:VTIMEZONE
BEGIN:VEVENT
DTSTART;VALUE=DATE:20190401
DTEND;VALUE=DATE:20190406
DTSTAMP:20260421T044147
CREATED:20180912T124226Z
LAST-MODIFIED:20190405T204014Z
UID:15496-1554076800-1554508799@www.gogremlins.com
SUMMARY:Scholastic Book Fair Week
DESCRIPTION:Monday\, April 1 – Preview Event (Classes sign up to attend) \nTuesday\, April 2 – G.R.A.N.D. Event – (bring your G.R.A.N.D. guest to dine for lunch and shop the book fair – please RSVP if your GRAND guest would like a school lunch.) Poster giveaway drawing with purchase. \nGrandparentsRelatives Aunts & Uncles NeighborsDevoted Caregivers \nWednesday\, April 3 – DYNO-MITE Donuts & Deals beginning at 7:00 AM (Donuts & Drink for Early morning shoppers)   \nThursday\, April 4 – DINO Treats w/ purchase \nFriday\, April 5 – Last Chance Event
URL:https://www.gogremlins.com/event/scholastic-book-fair-week-2/
LOCATION:SHS Commons
CATEGORIES:Main
END:VEVENT
END:VCALENDAR