BEGIN:VCALENDAR
VERSION:2.0
PRODID:-//Sacred Heart School - ECPv5.8.1//NONSGML v1.0//EN
CALSCALE:GREGORIAN
METHOD:PUBLISH
X-WR-CALNAME:Sacred Heart School
X-ORIGINAL-URL:https://www.gogremlins.com
X-WR-CALDESC:Events for Sacred Heart School
BEGIN:VTIMEZONE
TZID:America/Chicago
BEGIN:DAYLIGHT
TZOFFSETFROM:-0600
TZOFFSETTO:-0500
TZNAME:CDT
DTSTART:20200308T080000
END:DAYLIGHT
BEGIN:STANDARD
TZOFFSETFROM:-0500
TZOFFSETTO:-0600
TZNAME:CST
DTSTART:20201101T070000
END:STANDARD
END:VTIMEZONE
BEGIN:VEVENT
DTSTART;TZID=America/Chicago:20200831T160000
DTEND;TZID=America/Chicago:20200831T200000
DTSTAMP:20260424T133326
CREATED:20200826T203916Z
LAST-MODIFIED:20200831T211125Z
UID:43142-1598889600-1598904000@www.gogremlins.com
SUMMARY:Golf SC/Gr Ridge/Cole Camp @ Home
DESCRIPTION:
URL:https://www.gogremlins.com/event/sc-gr-ridge-cole-camp-home/
CATEGORIES:HS Girls Golf
END:VEVENT
END:VCALENDAR