BEGIN:VCALENDAR
VERSION:2.0
PRODID:-//Sacred Heart School - ECPv5.8.1//NONSGML v1.0//EN
CALSCALE:GREGORIAN
METHOD:PUBLISH
X-WR-CALNAME:Sacred Heart School
X-ORIGINAL-URL:https://www.gogremlins.com
X-WR-CALDESC:Events for Sacred Heart School
BEGIN:VTIMEZONE
TZID:America/Chicago
BEGIN:DAYLIGHT
TZOFFSETFROM:-0600
TZOFFSETTO:-0500
TZNAME:CDT
DTSTART:20220313T080000
END:DAYLIGHT
BEGIN:STANDARD
TZOFFSETFROM:-0500
TZOFFSETTO:-0600
TZNAME:CST
DTSTART:20221106T070000
END:STANDARD
END:VTIMEZONE
BEGIN:VEVENT
DTSTART;VALUE=DATE:20220331
DTEND;VALUE=DATE:20220403
DTSTAMP:20260421T223235
CREATED:20220125T075421Z
LAST-MODIFIED:20220402T143848Z
UID:64831-1648684800-1648943999@www.gogremlins.com
SUMMARY:Sacred Heart Invitational
DESCRIPTION:
URL:https://www.gogremlins.com/event/sacred-heart-invitational/
CATEGORIES:HS Baseball
END:VEVENT
END:VCALENDAR