BEGIN:VCALENDAR
VERSION:2.0
PRODID:-//Sacred Heart School - ECPv5.8.1//NONSGML v1.0//EN
CALSCALE:GREGORIAN
METHOD:PUBLISH
X-WR-CALNAME:Sacred Heart School
X-ORIGINAL-URL:https://www.gogremlins.com
X-WR-CALDESC:Events for Sacred Heart School
BEGIN:VTIMEZONE
TZID:America/Chicago
BEGIN:DAYLIGHT
TZOFFSETFROM:-0600
TZOFFSETTO:-0500
TZNAME:CDT
DTSTART:20190310T080000
END:DAYLIGHT
BEGIN:STANDARD
TZOFFSETFROM:-0500
TZOFFSETTO:-0600
TZNAME:CST
DTSTART:20191103T070000
END:STANDARD
END:VTIMEZONE
BEGIN:VEVENT
DTSTART;VALUE=DATE:20191116
DTEND;VALUE=DATE:20191117
DTSTAMP:20260422T081107
CREATED:20191002T124138Z
LAST-MODIFIED:20191116T172410Z
UID:29053-1573862400-1573948799@www.gogremlins.com
SUMMARY:Robotics Team Meet
DESCRIPTION:
URL:https://www.gogremlins.com/event/robotics-team-meet/
LOCATION:Central Academy of Excellence\, 3221 Indiana Ave\, Kansas City\, MO 64128\, USA\, 2701 Indiana Ave\, United States
CATEGORIES:Main
GEO:39.076772;-94.54327
X-APPLE-STRUCTURED-LOCATION;VALUE=URI;X-ADDRESS=Central Academy of Excellence 3221 Indiana Ave Kansas City MO 64128 USA 2701 Indiana Ave United States;X-APPLE-RADIUS=500;X-TITLE=2701 Indiana Ave:geo:-94.54327,39.076772
END:VEVENT
END:VCALENDAR