BEGIN:VCALENDAR
VERSION:2.0
PRODID:-//Sacred Heart School - ECPv5.8.1//NONSGML v1.0//EN
CALSCALE:GREGORIAN
METHOD:PUBLISH
X-WR-CALNAME:Sacred Heart School
X-ORIGINAL-URL:https://www.gogremlins.com
X-WR-CALDESC:Events for Sacred Heart School
BEGIN:VTIMEZONE
TZID:America/Chicago
BEGIN:DAYLIGHT
TZOFFSETFROM:-0600
TZOFFSETTO:-0500
TZNAME:CDT
DTSTART:20180311T080000
END:DAYLIGHT
BEGIN:STANDARD
TZOFFSETFROM:-0500
TZOFFSETTO:-0600
TZNAME:CST
DTSTART:20181104T070000
END:STANDARD
END:VTIMEZONE
BEGIN:VEVENT
DTSTART;TZID=America/Chicago:20181219T101500
DTEND;TZID=America/Chicago:20181219T104500
DTSTAMP:20260421T223759
CREATED:20181015T152654Z
LAST-MODIFIED:20181219T123909Z
UID:16834-1545214500-1545216300@www.gogremlins.com
SUMMARY:Rest Haven Nursing Home: Choir Performs
DESCRIPTION:JH Choir performs with the Garlich Center Choir
URL:https://www.gogremlins.com/event/rest-haven-nursing-home-choir-performs/
CATEGORIES:Main
END:VEVENT
END:VCALENDAR