BEGIN:VCALENDAR
VERSION:2.0
PRODID:-//Sacred Heart School - ECPv5.8.1//NONSGML v1.0//EN
CALSCALE:GREGORIAN
METHOD:PUBLISH
X-WR-CALNAME:Sacred Heart School
X-ORIGINAL-URL:https://www.gogremlins.com
X-WR-CALDESC:Events for Sacred Heart School
BEGIN:VTIMEZONE
TZID:America/Chicago
BEGIN:DAYLIGHT
TZOFFSETFROM:-0600
TZOFFSETTO:-0500
TZNAME:CDT
DTSTART:20190310T080000
END:DAYLIGHT
BEGIN:STANDARD
TZOFFSETFROM:-0500
TZOFFSETTO:-0600
TZNAME:CST
DTSTART:20191103T070000
END:STANDARD
END:VTIMEZONE
BEGIN:VEVENT
DTSTART;TZID=America/Chicago:20191121T080000
DTEND;TZID=America/Chicago:20191121T143000
DTSTAMP:20260422T112257
CREATED:20191024T142506Z
LAST-MODIFIED:20191121T164205Z
UID:29766-1574323200-1574346600@www.gogremlins.com
SUMMARY:Regional Retreat (8th Grade)
DESCRIPTION:St. Vincent dePaul priests along with priests from surrounding parishes will be leading the talks and small group sessions. Sacred Heart religion teachers and SHHs students will help facilitate small groups\, games\, entertainment\, and liturgy.
URL:https://www.gogremlins.com/event/regional-retreat-8th-grade/
LOCATION:Sacred Heart High School\, 416 W 3rd St\, Sedalia\, MO 65301\, USA\, 101 W 3rd St\, United States
CATEGORIES:Main
GEO:38.708641;-93.228156
X-APPLE-STRUCTURED-LOCATION;VALUE=URI;X-ADDRESS=Sacred Heart High School 416 W 3rd St Sedalia MO 65301 USA 101 W 3rd St United States;X-APPLE-RADIUS=500;X-TITLE=101 W 3rd St:geo:-93.228156,38.708641
END:VEVENT
END:VCALENDAR