BEGIN:VCALENDAR
VERSION:2.0
PRODID:-//Sacred Heart School - ECPv5.8.1//NONSGML v1.0//EN
CALSCALE:GREGORIAN
METHOD:PUBLISH
X-WR-CALNAME:Sacred Heart School
X-ORIGINAL-URL:https://www.gogremlins.com
X-WR-CALDESC:Events for Sacred Heart School
BEGIN:VTIMEZONE
TZID:America/Chicago
BEGIN:DAYLIGHT
TZOFFSETFROM:-0600
TZOFFSETTO:-0500
TZNAME:CDT
DTSTART:20210314T080000
END:DAYLIGHT
BEGIN:STANDARD
TZOFFSETFROM:-0500
TZOFFSETTO:-0600
TZNAME:CST
DTSTART:20211107T070000
END:STANDARD
END:VTIMEZONE
BEGIN:VEVENT
DTSTART;TZID=America/Chicago:20210305T141000
DTEND;TZID=America/Chicago:20210305T151000
DTSTAMP:20260424T073750
CREATED:20210211T152546Z
LAST-MODIFIED:20210304T235635Z
UID:51507-1614953400-1614957000@www.gogremlins.com
SUMMARY:Reconciliation (2nd Grade)
DESCRIPTION:2nd grade
URL:https://www.gogremlins.com/event/reconciliation-12/
LOCATION:Sacred Heart Chapel
CATEGORIES:Faith Life
END:VEVENT
END:VCALENDAR