BEGIN:VCALENDAR
VERSION:2.0
PRODID:-//Sacred Heart School - ECPv5.8.1//NONSGML v1.0//EN
CALSCALE:GREGORIAN
METHOD:PUBLISH
X-WR-CALNAME:Sacred Heart School
X-ORIGINAL-URL:https://www.gogremlins.com
X-WR-CALDESC:Events for Sacred Heart School
BEGIN:VTIMEZONE
TZID:America/Chicago
BEGIN:DAYLIGHT
TZOFFSETFROM:-0600
TZOFFSETTO:-0500
TZNAME:CDT
DTSTART:20190310T080000
END:DAYLIGHT
BEGIN:STANDARD
TZOFFSETFROM:-0500
TZOFFSETTO:-0600
TZNAME:CST
DTSTART:20191103T070000
END:STANDARD
END:VTIMEZONE
BEGIN:VEVENT
DTSTART;TZID=America/Chicago:20191119T094000
DTEND;TZID=America/Chicago:20191119T100000
DTSTAMP:20260422T034425
CREATED:20191114T122453Z
LAST-MODIFIED:20191119T163747Z
UID:30404-1574156400-1574157600@www.gogremlins.com
SUMMARY:Rachel’s Families Door Decorating Planning Meeting
DESCRIPTION:
URL:https://www.gogremlins.com/event/rachels-family-planning/
CATEGORIES:Main
ORGANIZER;CN="Sacred%20Heart%20School%20Calendar":MAILTO:gogremlins.com_a3j4m3njtec9e6sauf99rsoo00@group.calendar.google.com
END:VEVENT
END:VCALENDAR