BEGIN:VCALENDAR
VERSION:2.0
PRODID:-//Sacred Heart School - ECPv5.8.1//NONSGML v1.0//EN
CALSCALE:GREGORIAN
METHOD:PUBLISH
X-WR-CALNAME:Sacred Heart School
X-ORIGINAL-URL:https://www.gogremlins.com
X-WR-CALDESC:Events for Sacred Heart School
BEGIN:VTIMEZONE
TZID:America/Chicago
BEGIN:DAYLIGHT
TZOFFSETFROM:-0600
TZOFFSETTO:-0500
TZNAME:CDT
DTSTART:20200308T080000
END:DAYLIGHT
BEGIN:STANDARD
TZOFFSETFROM:-0500
TZOFFSETTO:-0600
TZNAME:CST
DTSTART:20201101T070000
END:STANDARD
END:VTIMEZONE
BEGIN:VEVENT
DTSTART;TZID=America/Chicago:20200128T090000
DTEND;TZID=America/Chicago:20200128T100000
DTSTAMP:20260422T020042
CREATED:20200123T162012Z
LAST-MODIFIED:20200128T214113Z
UID:32528-1580202000-1580205600@www.gogremlins.com
SUMMARY:Rachel’s Families
DESCRIPTION:This event has a video call.Join: https://meet.google.com/xwg-awsx-xgo+1 530-618-7117 PIN: 622205643#
URL:https://www.gogremlins.com/event/rachels-families-2/
LOCATION:Main Gym
CATEGORIES:Main
ORGANIZER;CN="Sacred%20Heart%20School%20Calendar":MAILTO:gogremlins.com_a3j4m3njtec9e6sauf99rsoo00@group.calendar.google.com
END:VEVENT
END:VCALENDAR