BEGIN:VCALENDAR
VERSION:2.0
PRODID:-//Sacred Heart School - ECPv5.8.1//NONSGML v1.0//EN
CALSCALE:GREGORIAN
METHOD:PUBLISH
X-WR-CALNAME:Sacred Heart School
X-ORIGINAL-URL:https://www.gogremlins.com
X-WR-CALDESC:Events for Sacred Heart School
BEGIN:VTIMEZONE
TZID:America/Chicago
BEGIN:DAYLIGHT
TZOFFSETFROM:-0600
TZOFFSETTO:-0500
TZNAME:CDT
DTSTART:20190310T080000
END:DAYLIGHT
BEGIN:STANDARD
TZOFFSETFROM:-0500
TZOFFSETTO:-0600
TZNAME:CST
DTSTART:20191103T070000
END:STANDARD
END:VTIMEZONE
BEGIN:VEVENT
DTSTART;TZID=America/Chicago:20190516T183000
DTEND;TZID=America/Chicago:20190516T193000
DTSTAMP:20260423T041453
CREATED:20180829T152921Z
LAST-MODIFIED:20190517T120920Z
UID:14149-1558031400-1558035000@www.gogremlins.com
SUMMARY:Preschool 4's Graduation
DESCRIPTION:Reception following in the SH School Cafeteria.
URL:https://www.gogremlins.com/event/preschool-4s-graduation/
LOCATION:Sacred Heart Church
CATEGORIES:Main
END:VEVENT
END:VCALENDAR