BEGIN:VCALENDAR
VERSION:2.0
PRODID:-//Sacred Heart School - ECPv5.8.1//NONSGML v1.0//EN
CALSCALE:GREGORIAN
METHOD:PUBLISH
X-WR-CALNAME:Sacred Heart School
X-ORIGINAL-URL:https://www.gogremlins.com
X-WR-CALDESC:Events for Sacred Heart School
BEGIN:VTIMEZONE
TZID:America/Chicago
BEGIN:DAYLIGHT
TZOFFSETFROM:-0600
TZOFFSETTO:-0500
TZNAME:CDT
DTSTART:20190310T080000
END:DAYLIGHT
BEGIN:STANDARD
TZOFFSETFROM:-0500
TZOFFSETTO:-0600
TZNAME:CST
DTSTART:20191103T070000
END:STANDARD
END:VTIMEZONE
BEGIN:VEVENT
DTSTART;TZID=America/Chicago:20190403T183000
DTEND;TZID=America/Chicago:20190403T200000
DTSTAMP:20260421T122743
CREATED:20181025T151526Z
LAST-MODIFIED:20190403T202405Z
UID:17395-1554316200-1554321600@www.gogremlins.com
SUMMARY:Pettis County Catholic Youth Group - Grades 7-12
DESCRIPTION:Grades 7-12 are welcome to join us for games\, discussions\, and snacks
URL:https://www.gogremlins.com/event/pettis-county-catholic-youth-group-grades-7-12-26/
LOCATION:Newman House by Sacred Heart
CATEGORIES:Main
END:VEVENT
END:VCALENDAR