BEGIN:VCALENDAR
VERSION:2.0
PRODID:-//Sacred Heart School - ECPv5.8.1//NONSGML v1.0//EN
CALSCALE:GREGORIAN
METHOD:PUBLISH
X-WR-CALNAME:Sacred Heart School
X-ORIGINAL-URL:https://www.gogremlins.com
X-WR-CALDESC:Events for Sacred Heart School
BEGIN:VTIMEZONE
TZID:America/Chicago
BEGIN:DAYLIGHT
TZOFFSETFROM:-0600
TZOFFSETTO:-0500
TZNAME:CDT
DTSTART:20250309T080000
END:DAYLIGHT
BEGIN:STANDARD
TZOFFSETFROM:-0500
TZOFFSETTO:-0600
TZNAME:CST
DTSTART:20251102T070000
END:STANDARD
END:VTIMEZONE
BEGIN:VEVENT
DTSTART;TZID=America/Chicago:20250117T140000
DTEND;TZID=America/Chicago:20250117T150000
DTSTAMP:20260421T175845
CREATED:20240920T140250Z
LAST-MODIFIED:20250117T111520Z
UID:97947-1737122400-1737126000@www.gogremlins.com
SUMMARY:Pep Rally
DESCRIPTION:1:30pm – Band Dismissed \n\n\n1:45pm – STUCO and Cheer Dismissed \n\n\n2-3pm – All Grades Invited
URL:https://www.gogremlins.com/event/pep-rally/
LOCATION:McGremlin Gym
CATEGORIES:Main
END:VEVENT
END:VCALENDAR