BEGIN:VCALENDAR
VERSION:2.0
PRODID:-//Sacred Heart School - ECPv5.8.1//NONSGML v1.0//EN
CALSCALE:GREGORIAN
METHOD:PUBLISH
X-WR-CALNAME:Sacred Heart School
X-ORIGINAL-URL:https://www.gogremlins.com
X-WR-CALDESC:Events for Sacred Heart School
BEGIN:VTIMEZONE
TZID:America/Chicago
BEGIN:DAYLIGHT
TZOFFSETFROM:-0600
TZOFFSETTO:-0500
TZNAME:CDT
DTSTART:20200308T080000
END:DAYLIGHT
BEGIN:STANDARD
TZOFFSETFROM:-0500
TZOFFSETTO:-0600
TZNAME:CST
DTSTART:20201101T070000
END:STANDARD
END:VTIMEZONE
BEGIN:VEVENT
DTSTART;VALUE=DATE:20201001
DTEND;VALUE=DATE:20201002
DTSTAMP:20260424T091306
CREATED:20200821T202826Z
LAST-MODIFIED:20201001T154039Z
UID:42629-1601510400-1601596799@www.gogremlins.com
SUMMARY:Papa John's "Sacred Heart Day"
DESCRIPTION:Sacred Heart School Night fundraiser.25% of your order will be donated back to Sacred Heart school.PROMO CODE: KSS001 \nCall 660-826-6698 or order at papajohns.com \nPapa John's is committed to supporting our community\, and our takeout and delivery options remain open and fully operational. When the home is where you want to be\, we will bring high-quality pizza directly to your door. We are closely monitoring the situation and following the guidance and direction of local\, state and national officials in response to novel coronavirus. You can learn about the precautions we are taking in a letter from our CEO Rob Lynch\, located here: https://www.papajohns.com/healthandwellness
URL:https://www.gogremlins.com/event/papa-johns-sacred-heart-day-3/
LOCATION:2915 W Broadway Blvd\, Sedalia\, MO\, United States
CATEGORIES:Main
GEO:38.703138;-93.240166
END:VEVENT
END:VCALENDAR